BEGIN:VCALENDAR
VERSION:2.0
PRODID:-//ChamberMaster//Event Calendar 2.0//EN
METHOD:PUBLISH
X-PUBLISHED-TTL:P3D
REFRESH-INTERVAL:P3D
CALSCALE:GREGORIAN
BEGIN:VEVENT
DTSTART:20171025T223000Z
DTEND:20171026T000000Z
X-MICROSOFT-CDO-ALLDAYEVENT:FALSE
SUMMARY:Young Professionals Group Networking
DESCRIPTION:Young Professionals of Glenview Take AIM\n\nAction - Do Something\n\nImpact - Bring Positive Change\n\nMotivate - Inspire\n\nLet's take make a difference as we build our business.
X-ALT-DESC;FMTTYPE=text/html:<span style="color: rgb(76\, 76\, 83)\; font-family: AsapRegular\, Arial\, sans-serif\; font-size: 14px\;">Young Professionals of Glenview Take AIM</span><br style="font-stretch: normal\; font-size: 14px\; line-height: 22px\; font-family: AsapRegular\, Arial\, sans-serif\; color: rgb(76\, 76\, 83)\; display: inline\;" />\n<span style="color: rgb(76\, 76\, 83)\; font-family: AsapRegular\, Arial\, sans-serif\; font-size: 14px\;">Action - Do Something</span><br style="font-stretch: normal\; font-size: 14px\; line-height: 22px\; font-family: AsapRegular\, Arial\, sans-serif\; color: rgb(76\, 76\, 83)\; display: inline\;" />\n<span style="color: rgb(76\, 76\, 83)\; font-family: AsapRegular\, Arial\, sans-serif\; font-size: 14px\;">Impact - Bring Positive Change</span><br style="font-stretch: normal\; font-size: 14px\; line-height: 22px\; font-family: AsapRegular\, Arial\, sans-serif\; color: rgb(76\, 76\, 83)\; display: inline\;" />\n<span style="color: rgb(76\, 76\, 83)\; font-family: AsapRegular\, Arial\, sans-serif\; font-size: 14px\;">Motivate - Inspire</span><br style="font-stretch: normal\; font-size: 14px\; line-height: 22px\; font-family: AsapRegular\, Arial\, sans-serif\; color: rgb(76\, 76\, 83)\; display: inline\;" />\n<span style="color: rgb(76\, 76\, 83)\; font-family: AsapRegular\, Arial\, sans-serif\; font-size: 14px\;">Let&#39\;s take make a difference as we build our business.</span><br style="font-stretch: normal\; font-size: 14px\; line-height: 22px\; font-family: AsapRegular\, Arial\, sans-serif\; color: rgb(76\, 76\, 83)\; display: inline\;" />\n<span style="color: rgb(76\, 76\, 83)\; font-family: AsapRegular\, Arial\, sans-serif\; font-size: 14px\;">&nbsp\;</span>
LOCATION:Hosted at Macushla Brewing Co\, 1516 E Lake Avenue Beer Tasting by Macushla Brewing Co. Cash bar Appetizers provided by: Hackneys on Lake
UID:e.434.6844
SEQUENCE:3
DTSTAMP:20260425T224816Z
URL:http://business.glenviewchamber.com/events/details/young-professionals-group-networking-6844
END:VEVENT

END:VCALENDAR
