BEGIN:VCALENDAR
VERSION:2.0
PRODID:-//ChamberMaster//Event Calendar 2.0//EN
METHOD:PUBLISH
X-PUBLISHED-TTL:P3D
REFRESH-INTERVAL:P3D
CALSCALE:GREGORIAN
BEGIN:VEVENT
DTSTART:20180228T233000Z
DTEND:20180301T010000Z
X-MICROSOFT-CDO-ALLDAYEVENT:FALSE
SUMMARY:Young Professionals Group Networking
DESCRIPTION:Young Professionals of Glenview \n\nBusiness After Hours & Networking Event for the 45 and under crowd!
X-ALT-DESC;FMTTYPE=text/html:<span style="color: rgb(76\, 76\, 83)\; font-family: AsapRegular\, Arial\, sans-serif\; font-size: 14px\;">Young Professionals of Glenview&nbsp\;<br />\nBusiness After Hours &amp\; Networking Event for the 45 and under crowd!</span>
LOCATION:Hosted by Glenview & Northview Bank & Trust Northview Bank and Trust 245 Waukegan Road\, Northfield Details TBD
UID:e.434.8680
SEQUENCE:3
DTSTAMP:20260425T185631Z
URL:http://business.glenviewchamber.com/events/details/young-professionals-group-networking-8680
END:VEVENT

END:VCALENDAR
