BEGIN:VCALENDAR
VERSION:2.0
PRODID:-//ChamberMaster//Event Calendar 2.0//EN
METHOD:PUBLISH
X-PUBLISHED-TTL:P3D
REFRESH-INTERVAL:P3D
CALSCALE:GREGORIAN
BEGIN:VEVENT
DTSTART:20190221T233000Z
DTEND:20190222T010000Z
X-MICROSOFT-CDO-ALLDAYEVENT:FALSE
SUMMARY:Young Professionals Networking
DESCRIPTION:Please join us for our first Young Professionals Group (YPG) Networking of the year at North Branch Burger & Pizza Company at 4520 W. Lake Avenue. Free appetizers and cash bar for this event. We are excited to hear your 2019 professional goals and want to see how YPG can help you achieve these goals. Also\, we will be discussing volunteer opportunities for the 2019 Summer Food Drive and other exciting ways you can get involved.
X-ALT-DESC;FMTTYPE=text/html:Please join us for our first Young Professionals Group (YPG) Networking of the year at North Branch Burger &amp\; Pizza Company at 4520 W. Lake Avenue. Free appetizers and cash bar for this event. We are excited to hear your 2019 professional goals and want to see how YPG can help you achieve these goals. Also\, we will be discussing volunteer opportunities for the 2019 Summer Food Drive and other exciting ways you can get involved.<br />\n
LOCATION:North Branch Burger & Pizza Company 4520 W. Lake Avenue
UID:e.434.10087
SEQUENCE:3
DTSTAMP:20260425T034651Z
URL:http://business.glenviewchamber.com/events/details/young-professionals-networking-10087
END:VEVENT

END:VCALENDAR
