BEGIN:VCALENDAR
VERSION:2.0
PRODID:-//ChamberMaster//Event Calendar 2.0//EN
METHOD:PUBLISH
X-PUBLISHED-TTL:P3D
REFRESH-INTERVAL:P3D
CALSCALE:GREGORIAN
BEGIN:VEVENT
DTSTART:20190223T183000Z
DTEND:20190223T210000Z
X-MICROSOFT-CDO-ALLDAYEVENT:FALSE
SUMMARY:Youth Art Fair
DESCRIPTION:The Glenview Art League's 30th Annual\n\nYouth Art Fair\n\n\n\nOpen to the public from 12:30 - 3 pm\n\nPrizes awards in all age groups!\n\nAward Ceremony at 2:30 p.m. \n\nVote in the People's Choice Award!\n\nDeadline to register: February 9\n\n\n\nLet's collect even more new art supplies and canned food for the Northfield Township Food Pantry.
X-ALT-DESC;FMTTYPE=text/html:<strong>The Glenview Art League&#39\;s 30th Annual<br />\nYouth Art Fair</strong><br />\n<br />\nOpen to the public from 12:30 - 3 pm<br />\nPrizes awards in all age groups!<br />\nAward Ceremony at 2:30 p.m.&nbsp\;<br />\nVote in the People&#39\;s Choice Award!<br />\nDeadline to register: February 9<br />\n<br />\nLet&#39\;s collect even more <strong><em>new art supplies </em></strong>and canned food for the Northfield Township Food Pantry.&nbsp\;
LOCATION:Attea Middle School 2500 Chestnut Glenview\, IL
UID:e.434.10080
SEQUENCE:3
DTSTAMP:20260425T022626Z
URL:http://business.glenviewchamber.com/events/details/youth-art-fair-10080
END:VEVENT

END:VCALENDAR
