BEGIN:VCALENDAR
VERSION:2.0
PRODID:-//ChamberMaster//Event Calendar 2.0//EN
METHOD:PUBLISH
X-PUBLISHED-TTL:P3D
REFRESH-INTERVAL:P3D
CALSCALE:GREGORIAN
BEGIN:VEVENT
DTSTART:20180428T220000Z
DTEND:20180429T040000Z
X-MICROSOFT-CDO-ALLDAYEVENT:FALSE
SUMMARY:Youth Services Annual Spring Benefit
DESCRIPTION:Please join us at our Spring Benefit for a fun\, Motown themed night will include dinner\, dancing\, live and silent auction\, raffle & live music by TRIBUTOSAURUS!\n\nThis years Spring Benefit will be held at the Orrington Hotel in Evanston on Saturday April 28th.  Individual tickets are available below for $150.00\n\nClick Here For Individual tickets\n\nWe have multiple sponsorship opportunities available\, allowing you to further support our organization.  Please call us for more details at 847-724-2620.
X-ALT-DESC;FMTTYPE=text/html:<p style="outline: none\; box-sizing: border-box\; margin: 0px 0px 10px\; padding: 0px\; border: 0px\; font-family: &quot\;Open Sans&quot\;\; vertical-align: baseline\; font-size: 16px\;">Please join us at our Spring Benefit for a&nbsp\;fun\, Motown themed night will include dinner\, dancing\, live and silent auction\, raffle &amp\;&nbsp\;live music by&nbsp\;<a href="https://www.tributosaurus.com/" style="box-sizing: border-box\; margin: 0px\; padding: 0px\; border: 0px\; font-weight: inherit\; font-style: inherit\; font-family: inherit\; vertical-align: baseline\; transition: all 0.1s ease-in\; color: rgb(11\, 182\, 151)\; background-color: transparent\; outline: none !important\; text-decoration-line: none !important\;"><strong style="outline: none\; box-sizing: border-box\;">TRIBUTOSAURUS!</strong></a></p>\n\n<p style="outline: none\; box-sizing: border-box\; margin: 0px 0px 10px\; padding: 0px\; border: 0px\; font-family: &quot\;Open Sans&quot\;\; vertical-align: baseline\; font-size: 16px\;">This years Spring Benefit will be held at the Orrington Hotel in Evanston on Saturday April 28th.&nbsp\; Individual tickets are available below for $150.00</p>\n\n<p style="outline: none\; box-sizing: border-box\; margin: 0px 0px 10px\; padding: 0px\; border: 0px\; font-family: &quot\;Open Sans&quot\;\; vertical-align: baseline\; font-size: 16px\;"><a href="http://www.ysgn.org/springbenefittickets" style="box-sizing: border-box\; margin: 0px\; padding: 0px\; border: 0px\; font-weight: inherit\; font-style: inherit\; font-family: inherit\; vertical-align: baseline\; transition: all 0.1s ease-in\; color: rgb(11\, 182\, 151)\; background-color: transparent\; outline: none !important\; text-decoration-line: none !important\;">Click Here For Individual tickets</a></p>\n\n<p style="outline: none\; box-sizing: border-box\; margin: 0px 0px 10px\; padding: 0px\; border: 0px\; font-family: &quot\;Open Sans&quot\;\; vertical-align: baseline\; font-size: 16px\;">We have multiple sponsorship opportunities available\, allowing you to further support our organization.&nbsp\; Please call us for more details at 847-724-2620.&nbsp\;</p>\n
LOCATION:Hilton Orrington 1710 Orrington Avenue Evanstton\, IL
UID:e.434.8744
SEQUENCE:3
DTSTAMP:20260425T151235Z
URL:http://business.glenviewchamber.com/events/details/youth-services-annual-spring-benefit-8744
END:VEVENT

END:VCALENDAR
