BEGIN:VCALENDAR
VERSION:2.0
PRODID:-//ChamberMaster//Event Calendar 2.0//EN
METHOD:PUBLISH
X-PUBLISHED-TTL:P3D
REFRESH-INTERVAL:P3D
CALSCALE:GREGORIAN
BEGIN:VEVENT
DTSTART:20191025T220000Z
DTEND:20191026T010000Z
X-MICROSOFT-CDO-ALLDAYEVENT:FALSE
SUMMARY:Youth Services Haunted House
DESCRIPTION:Haunted House\n\npresented by: Youth Services\n\n\n\nFamily fun (for all ages)\, refreshments\, and a haunted house for those up for a scare (recommended ages 8+)
X-ALT-DESC;FMTTYPE=text/html:Haunted House<br />\npresented by: Youth Services<br />\n<br />\nFamily fun (for all ages)\, refreshments\, and a haunted house for those up for a scare (recommended ages 8+)
LOCATION:Youth Services Glenview/Northbrook 3080 E. Lake Avenue Glenview
UID:e.434.10258
SEQUENCE:3
DTSTAMP:20260424T163843Z
URL:http://business.glenviewchamber.com/events/details/youth-services-haunted-house-10258
END:VEVENT

END:VCALENDAR
