BEGIN:VCALENDAR
VERSION:2.0
PRODID:-//ChamberMaster//Event Calendar 2.0//EN
METHOD:PUBLISH
X-PUBLISHED-TTL:P3D
REFRESH-INTERVAL:P3D
CALSCALE:GREGORIAN
BEGIN:VEVENT
DTSTART:20240421T000000Z
DTEND:20240421T033000Z
X-MICROSOFT-CDO-ALLDAYEVENT:FALSE
SUMMARY:20’s Night & Casino Lights
DESCRIPTION:It's time again to go All-In on Hope! Get ready to don your best 20's attire for a roaring good cause!! Family Service Center (FSC) proudly announces its highly anticipated 3rd annual Casino Night fundraiser\, slated for Saturday\, April 20\, 7pm to 10:30 pm at Fields Mini in Glencoe.\n\n \n\nThis year\, guests are invited to immerse themselves in the glitz and glamour of the 1920s with the theme "20's Night & Casino Lights." The event promises an unforgettable evening of entertainment\, featuring an open bar\, heavy hors d'oeuvres\, 50/50 raffle\, a silent auction brimming with fun items and unique experiences\, and exciting games of blackjack\, craps\, and roulette.\n\n \n\nAs always\, our seasoned and friendly dealers will be on hand to ensure that\, even for beginners\, every game is fun filled. Players will enjoy vying for bragging rights (prizes & trophies too) as one of the top 3 collectors of charity chips during the night. Attendees are encouraged to embrace the spirit of the era by dressing in their favorite "speak-easy" attire.\n\n \n\nDon't miss your chance to support a worthy cause. Tickets for Casino Night are available now\, with all proceeds directly benefiting FSC's essential programs and services. Early bird discounted tickets can be purchased through March 29 and 50/50 raffle tickets go on sale April 1.\n\n \n\nWith multiple sponsorship levels available for this important fundraising event\, FSC seeks to expand its roster of community-focused businesses and philanthropic organizations to further its mission. Nicholas & Associates\, a company that exemplifies building stronger communities\, will once again serve as FSC's top-level Monarch sponsor.\n\n \n\nFor event and raffle ticket purchases\, sponsorship details\, and further inquiries\, please visit www.familyservicecenter.org or call 847.251.7350.
X-ALT-DESC;FMTTYPE=text/html:<p><span style="font-size:11.0pt\;font-family:&quot\;Calibri&quot\;\,&quot\;sans-serif&quot\;\;color:#333333">It&rsquo\;s time again to go All-In on Hope! Get ready to d</span><span style="font-size:\n11.0pt\;font-family:&quot\;Calibri&quot\;\,&quot\;sans-serif&quot\;">on your best 20&rsquo\;s attire for a roaring good cause!! Family Service Center (FSC) proudly announces its highly anticipated 3rd annual Casino Night fundraiser\, slated for Saturday\, April 20\, 7pm to 10:30 pm at Fields Mini in Glencoe.</span><span style="font-family:Aptos"><o:p></o:p></span></p>\n\n<p><span style="font-size:11.0pt\;font-family:&quot\;Calibri&quot\;\,&quot\;sans-serif&quot\;">&nbsp\;</span><span style="font-family:Aptos"><o:p></o:p></span></p>\n\n<p><span style="font-size:11.0pt\;font-family:&quot\;Calibri&quot\;\,&quot\;sans-serif&quot\;">This year\, guests are invited to immerse themselves in the glitz and glamour of the 1920s with the theme &ldquo\;20&rsquo\;s Night &amp\; Casino Lights.&rdquo\; The event promises an unforgettable evening of entertainment\, featuring an open bar\, heavy hors d&rsquo\;oeuvres\, 50/50 raffle\, a silent auction brimming with fun items and unique experiences\, and exciting games of blackjack\, craps\, and roulette.</span><span style="font-family:Aptos"><o:p></o:p></span></p>\n\n<p><span style="font-size:11.0pt\;font-family:&quot\;Calibri&quot\;\,&quot\;sans-serif&quot\;">&nbsp\;</span><span style="font-family:Aptos"><o:p></o:p></span></p>\n\n<p><span style="font-size:11.0pt\;font-family:&quot\;Calibri&quot\;\,&quot\;sans-serif&quot\;">As always\, our seasoned and friendly dealers will be on hand to ensure that\, even for beginners\, every game is fun filled. Players will enjoy vying for bragging rights (prizes &amp\; trophies too) as one of the top 3 collectors of charity chips during the night. Attendees are encouraged to embrace the spirit of the era by dressing in their favorite &ldquo\;speak-easy&rdquo\; attire.</span><span style="font-family:Aptos"><o:p></o:p></span><br />\n&nbsp\;</p>\n\n<p><span style="font-size:11.0pt\;font-family:&quot\;Calibri&quot\;\,&quot\;sans-serif&quot\;">Don&rsquo\;t miss your chance to support a worthy cause. Tickets for Casino Night are available now\, with all proceeds directly benefiting FSC&rsquo\;s essential programs and services. Early bird discounted tickets can be purchased through March 29 and 50/50 raffle tickets go on sale April 1.</span><span style="font-family:Aptos"><o:p></o:p></span></p>\n\n<p><span style="font-size:11.0pt\;font-family:&quot\;Calibri&quot\;\,&quot\;sans-serif&quot\;">&nbsp\;</span><span style="font-family:Aptos"><o:p></o:p></span></p>\n\n<p><span style="font-size:11.0pt\;font-family:&quot\;Calibri&quot\;\,&quot\;sans-serif&quot\;">With multiple sponsorship levels available for this important fundraising event\, FSC seeks to expand its roster of community-focused businesses and philanthropic organizations to further its mission. Nicholas &amp\; Associates\, a company that exemplifies building stronger communities\, will once again serve as FSC&rsquo\;s top-level Monarch sponsor.</span><span style="font-family:Aptos"><o:p></o:p></span></p>\n\n<p><span style="font-size:11.0pt\;font-family:&quot\;Calibri&quot\;\,&quot\;sans-serif&quot\;">&nbsp\;</span><span style="font-family:Aptos"><o:p></o:p></span></p>\n\n<p><span style="font-size:11.0pt\;font-family:&quot\;Calibri&quot\;\,&quot\;sans-serif&quot\;\;color:#0D0D0D\;\nbackground:white">For event and raffle ticket purchases\, sponsorship details\, and further inquiries\, please visit </span><span style="font-size:11.0pt\;\nfont-family:&quot\;Calibri&quot\;\,&quot\;sans-serif&quot\;\;color:#96607D"><a data-auth="NotApplicable" data-loopstyle="linkonly" href="http://www.familyservicecenter.org/" id="OWA4920e1f5-b019-4aec-6244-a1fc4342ec11"><span style="color:#96607D">www.familyservicecenter.org</span></a></span><span style="font-size:11.0pt\;font-family:&quot\;Calibri&quot\;\,&quot\;sans-serif&quot\;">&nbsp\;or call <span style="color:#020202">847.251.7350</span>.</span><span style="font-family:Aptos"><o:p></o:p></span></p>\n\n<p><span style="font-family:Aptos"><o:p></o:p></span></p>\n
LOCATION:Fields Mini 2100 Frontage Road Glencoe
UID:e.434.10945
SEQUENCE:3
DTSTAMP:20260420T131956Z
URL:https://business.glenviewchamber.com/events/details/20-s-night-casino-lights-10945
END:VEVENT

END:VCALENDAR
