BEGIN:VCALENDAR
VERSION:2.0
PRODID:-//ChamberMaster//Event Calendar 2.0//EN
METHOD:PUBLISH
X-PUBLISHED-TTL:P3D
REFRESH-INTERVAL:P3D
CALSCALE:GREGORIAN
BEGIN:VEVENT
DTSTART:20230720T160000Z
DTEND:20230720T180000Z
X-MICROSOFT-CDO-ALLDAYEVENT:FALSE
SUMMARY:2023 Small Business Resource Lunch
DESCRIPTION:2023 Small Business Resource Luncheon\n\nHosted by State Senator Julie Morrison in partnership with the Chambers of Commerce in the 29th District.\n\nEnjoy networking\, lunch and keynote speaker Khama Sharp\, Assistant Director\, Illinois Dept. of  Commerce and Economic Opportunity.\n\nYou'll also have the opportunity to visit the Small Business Resource Booths to answer questions and provide resources for your business.
X-ALT-DESC;FMTTYPE=text/html:<u style="box-sizing: border-box\; font-family: Arial\, Helvetica\, sans-serif\; font-size: 16px\;"><span style="box-sizing: border-box\; font-weight: bolder\;">2023 Small Business Resource Luncheon</span></u><br style="box-sizing: border-box\; font-family: Arial\, Helvetica\, sans-serif\; font-size: 16px\;" />\n<em style="box-sizing: border-box\; font-family: Arial\, Helvetica\, sans-serif\; font-size: 16px\;">Hosted by State Senator Julie Morrison in partnership with the Chambers of Commerce in the 29th District.<br style="box-sizing: border-box\;" />\nEnjoy networking\, lunch and keynote speaker Khama Sharp\, Assistant Director\, Illinois Dept. of&nbsp\; Commerce and Economic Opportunity.<br style="box-sizing: border-box\;" />\nYou&#39\;ll also have the opportunity to visit the Small Business Resource Booths to answer questions and provide resources for your business.</em>
LOCATION:Marriott Suites Deerfield 2 Parkway North Deerfield\, IL 60015
UID:e.434.10760
SEQUENCE:3
DTSTAMP:20260420T212921Z
URL:https://business.glenviewchamber.com/events/details/2023-small-business-resource-lunch-10760
END:VEVENT

END:VCALENDAR
