BEGIN:VCALENDAR
VERSION:2.0
PRODID:-//ChamberMaster//Event Calendar 2.0//EN
METHOD:PUBLISH
X-PUBLISHED-TTL:P3D
REFRESH-INTERVAL:P3D
CALSCALE:GREGORIAN
BEGIN:VEVENT
DTSTART:20201212T210000Z
DTEND:20201212T230000Z
X-MICROSOFT-CDO-ALLDAYEVENT:FALSE
SUMMARY:27th annual “Toy-ful Celebration!”
DESCRIPTION:The 27th annual "Toy-ful Celebration!" benefiting the U.S. Marine Corps Toys for Tots campaign will take place on Saturday\, Dec. 12 from 3-5 p.m. with Glenview Community Church choir members and friends presenting a drive-through caroling event at the church\, 1000 Elm\, Glenview. Bring your new\, unwrapped toy donations. The Marines have never let kids in need down so let's help them make Christmas morning joyful! If you cannot make the concert\, consider dropping off new toys at any of the Glenview fire stations. For more information visit www.gccucc.org or call 847-724-2210.
X-ALT-DESC;FMTTYPE=text/html:The 27th annual &ldquo\;Toy-ful Celebration!&rdquo\; benefiting the U.S. Marine Corps Toys for Tots campaign will take place on Saturday\, Dec. 12 from 3-5 p.m. with Glenview Community Church choir members and friends presenting a drive-through caroling event at the church\, 1000 Elm\, Glenview. Bring your new\, unwrapped toy donations. The Marines have never let kids in need down so let&rsquo\;s help them make Christmas morning joyful! If you cannot make the concert\, consider dropping off new toys at any of the Glenview fire stations. For more information visit www.gccucc.org or call 847-724-2210.
LOCATION:Glenview Community Church\, 1000 Elm St.\, Glenview
UID:e.434.10517
SEQUENCE:3
DTSTAMP:20260422T195040Z
URL:https://business.glenviewchamber.com/events/details/27th-annual-toy-ful-celebration-10517
END:VEVENT

END:VCALENDAR
