BEGIN:VCALENDAR
VERSION:2.0
PRODID:-//ChamberMaster//Event Calendar 2.0//EN
METHOD:PUBLISH
X-PUBLISHED-TTL:P3D
REFRESH-INTERVAL:P3D
CALSCALE:GREGORIAN
BEGIN:VEVENT
DTSTART:20231217T010000Z
DTEND:20231217T023000Z
X-MICROSOFT-CDO-ALLDAYEVENT:FALSE
SUMMARY:30th Annual Toy-ful Celebration! Concert
DESCRIPTION:Bring your family to the Glenview Community Church\, 1000 Elm St.\, Glenview for the 30th Annual Toy-ful Celebration! Concert benefitting the U.S. Marine Corps Reserves Toys for Tots initiative. The program is in our sanctuary on Saturday\, December 16th at 7:00 p.m. Join the Toy Choir\, the Joyful Ringers bell choir and the GCC Children's Choir for a festive evening of holiday music and fun. Doors open at 6:30\; Christmas carol sing along at 6:45 p.m. The concert is free\, but please bring a new unwrapped toy. In honor of our 30th anniversary\, there will be a reception immediately following. Call (847) 724-2210 or visit https://www.gccucc.org/news-upcoming-events/ for further details.
X-ALT-DESC;FMTTYPE=text/html:Bring your family to the Glenview Community Church\, 1000 Elm St.\, Glenview for the 30th Annual Toy-ful Celebration! Concert benefitting the U.S. Marine Corps Reserves Toys for Tots initiative. The program is in our sanctuary on Saturday\, December 16th at 7:00 p.m. Join the Toy Choir\, the Joyful Ringers bell choir and the GCC Children&rsquo\;s Choir for a festive evening of holiday music and fun. Doors open at 6:30\; Christmas carol sing along at 6:45 p.m. The concert is free\, but please bring a new unwrapped toy. In honor of our 30th anniversary\, there will be a reception immediately following. Call (847) 724-2210 or visit https://www.gccucc.org/news-upcoming-events/ for further details.
LOCATION:Glenview Community Church\, 1000 Elm St.\, Glenview
UID:e.434.10875
SEQUENCE:3
DTSTAMP:20260420T203314Z
URL:https://business.glenviewchamber.com/events/details/30th-annual-toy-ful-celebration-concert-10875
END:VEVENT

END:VCALENDAR
