BEGIN:VCALENDAR
VERSION:2.0
PRODID:-//ChamberMaster//Event Calendar 2.0//EN
METHOD:PUBLISH
X-PUBLISHED-TTL:P3D
REFRESH-INTERVAL:P3D
CALSCALE:GREGORIAN
BEGIN:VEVENT
DTSTART:20240204T183000Z
DTEND:20240204T200000Z
X-MICROSOFT-CDO-ALLDAYEVENT:FALSE
SUMMARY:3D Design Workshops Designing for Valentine's Day
DESCRIPTION:Together with your child\, you'll learn the fundamentals of design for 3D printing. Participants should come with an idea in mind to work on. Items will be available for pickup 1 week after the workshop. Theme: Valentine's Day
X-ALT-DESC;FMTTYPE=text/html:Together with your child\, you&rsquo\;ll learn the fundamentals of design for 3D printing. Participants should come with an idea in mind to work on. Items will be available for pickup 1 week after the workshop. Theme: Valentine&#39\;s Day
LOCATION:North Suburban YMCA\, 2705 Techny Rd. Northbrook. IL 60062
UID:e.434.10890
SEQUENCE:3
DTSTAMP:20260420T130247Z
URL:https://business.glenviewchamber.com/events/details/3d-design-workshops-designing-for-valentine-s-day-10890
END:VEVENT

END:VCALENDAR
