BEGIN:VCALENDAR
VERSION:2.0
PRODID:-//ChamberMaster//Event Calendar 2.0//EN
METHOD:PUBLISH
X-PUBLISHED-TTL:P3D
REFRESH-INTERVAL:P3D
CALSCALE:GREGORIAN
BEGIN:VEVENT
DTSTART:20211114T210000Z
DTEND:20211114T230000Z
X-MICROSOFT-CDO-ALLDAYEVENT:FALSE
SUMMARY:9th Annual Concert for Peace
DESCRIPTION:The Simple Gifts Concert Series of the Glenview Community Church\, 1000 Elm Street\, hosts its 9th annual concert exploring the theme of peace\, "Concert for Peace: Peace Like a River"\, on Sunday\, November 14\, at 3:00 p.m. Violinist Katherine Hughes\, saxophonist Kevin Kizer\, organist Gary Wendt\, vocalist Tricia Melzer Swaydrak\, the Artistrings String Quartet\, jazz vocalist Jade Maze\, the rhythm section of Kent Wehman\, Ken Haebich\, and Neal Wehman\, and singer/songwriter/multimedia artist Linda Marie Smith perform songs about peace in a variety of styles\, from traditional to contemporary. Collaborating with these musicians will be representatives of different faith communities including Dr. Koray Aydin\, Dr. Ali Yilmaz\, & Hakan Barberson of Group Yakamoz\, the Joyful Ringers Bell Choir and Elliot Dvorin and Doreen Kane of the Key Tov Orchestra. Enjoy an accompanying art show\, curated by Robin Woodsome\, with a post-concert demonstration of the Turkish paper marbling art\, Ebru\, by Meryem Askin. Masks\, please. A free-will offering benefits Hands of Peace. For more information call the church office at 847-724-2210 or visit our website at www.gccucc.org.
X-ALT-DESC;FMTTYPE=text/html:The Simple Gifts Concert Series of the Glenview Community Church\, 1000 Elm Street\, hosts its 9th annual concert exploring the theme of peace\, &ldquo\;Concert for Peace: Peace Like a River&rdquo\;\, on Sunday\, November 14\, at 3:00 p.m. Violinist Katherine Hughes\, saxophonist Kevin Kizer\, organist Gary Wendt\, vocalist Tricia Melzer Swaydrak\, the Artistrings String Quartet\, jazz vocalist Jade Maze\, the rhythm section of Kent Wehman\, Ken Haebich\, and Neal Wehman\, and singer/songwriter/multimedia artist Linda Marie Smith perform songs about peace in a variety of styles\, from traditional to contemporary. Collaborating with these musicians will be representatives of different faith communities including Dr. Koray Aydin\, Dr. Ali Yilmaz\, &amp\; Hakan Barberson of Group Yakamoz\, the Joyful Ringers Bell Choir and Elliot Dvorin and Doreen Kane of the Key Tov Orchestra. Enjoy an accompanying art show\, curated by Robin Woodsome\, with a post-concert demonstration of the Turkish paper marbling art\, Ebru\, by Meryem Askin. Masks\, please. A free-will offering benefits Hands of Peace. For more information call the church office at 847-724-2210 or visit our website at www.gccucc.org.
LOCATION:Glenview Community Church\, 1000 Elm St.
UID:e.434.10577
SEQUENCE:3
DTSTAMP:20260422T034049Z
URL:https://business.glenviewchamber.com/events/details/9th-annual-concert-for-peace-10577
END:VEVENT

END:VCALENDAR
