BEGIN:VCALENDAR
VERSION:2.0
PRODID:-//ChamberMaster//Event Calendar 2.0//EN
METHOD:PUBLISH
X-PUBLISHED-TTL:P3D
REFRESH-INTERVAL:P3D
CALSCALE:GREGORIAN
BEGIN:VEVENT
DTSTART:20200811T150000Z
DTEND:20200811T160000Z
X-MICROSOFT-CDO-ALLDAYEVENT:FALSE
SUMMARY:Access The Experts
DESCRIPTION:Access the Experts - Customer Service and Repeat Business\n\n \n\n \n\n \n\nRegister in advance for this meeting:\n\nhttps://us02web.zoom.us/meeting/register/tZ0qcOyurjgrG9TIAnmPaJs4o9ZAUKkrzZMK \n\n \n\nAfter registering\, you will receive a confirmation email containing information about joining the meeting.\n\n \n\nRepeat business is the key to profitability. Now more than ever\, you need to go above and beyond to keep customers happy. PJ Weiland will discuss best practices\, retention strategies and building customer loyalty.
X-ALT-DESC;FMTTYPE=text/html:<div style="color: rgb(255\, 255\, 255)\; font-family: Helvetica\, Arial\, sans-serif\; font-size: 18px\; font-weight: 700\;"><span style="color: rgb(31\, 73\, 125)\; font-family: Calibri\, Helvetica\, Arial\, sans-serif\;">Access the Experts - Customer Service and Repeat Business</span></div>\n\n<div style="color: rgb(255\, 255\, 255)\; font-family: Helvetica\, Arial\, sans-serif\; font-size: 18px\; font-weight: 700\;">&nbsp\;</div>\n\n<div style="color: rgb(255\, 255\, 255)\; font-family: Helvetica\, Arial\, sans-serif\; font-size: 18px\; font-weight: 700\;">&nbsp\;</div>\n\n<div style="color: rgb(255\, 255\, 255)\; font-family: Helvetica\, Arial\, sans-serif\; font-size: 18px\; font-weight: 700\;">&nbsp\;</div>\n\n<div style="color: rgb(255\, 255\, 255)\; font-family: Helvetica\, Arial\, sans-serif\; font-size: 18px\; font-weight: 700\;"><span style="font-size: 16px\; color: rgb(31\, 73\, 125)\; font-weight: normal\; font-family: Calibri\, Helvetica\, Arial\, sans-serif\;">Register in advance for this meeting:</span></div>\n\n<div style="color: rgb(255\, 255\, 255)\; font-family: Helvetica\, Arial\, sans-serif\; font-size: 18px\; font-weight: 700\;"><a href="https://us02web.zoom.us/meeting/register/tZ0qcOyurjgrG9TIAnmPaJs4o9ZAUKkrzZMK" rel="noopener noreferrer" style="font-size: 16px\; color: rgb(31\, 73\, 125)\; font-weight: normal\; font-family: Calibri\, Helvetica\, Arial\, sans-serif\;" target="_blank">https://us02web.zoom.us/meeting/register/tZ0qcOyurjgrG9TIAnmPaJs4o9ZAUKkrzZMK&nbsp\;</a></div>\n\n<div style="color: rgb(255\, 255\, 255)\; font-family: Helvetica\, Arial\, sans-serif\; font-size: 18px\; font-weight: 700\;">&nbsp\;</div>\n\n<div style="color: rgb(255\, 255\, 255)\; font-family: Helvetica\, Arial\, sans-serif\; font-size: 18px\; font-weight: 700\;"><span style="font-size: 16px\; color: rgb(31\, 73\, 125)\; font-weight: normal\; font-family: Calibri\, Helvetica\, Arial\, sans-serif\;">After registering\, you will receive a confirmation email containing information about joining the meeting.</span></div>\n\n<div style="color: rgb(255\, 255\, 255)\; font-family: Helvetica\, Arial\, sans-serif\; font-size: 18px\; font-weight: 700\;">&nbsp\;</div>\n\n<div style="color: rgb(255\, 255\, 255)\; font-family: Helvetica\, Arial\, sans-serif\; font-size: 18px\; font-weight: 700\;"><span style="font-size: 16px\; color: rgb(31\, 73\, 125)\; font-family: Calibri\, Helvetica\, Arial\, sans-serif\; font-weight: normal\;">Repeat business is the key to profitability.&nbsp\;Now more than ever\, you need to go above and beyond to keep customers happy.&nbsp\;PJ Weiland will discuss best practices\, retention strategies and building customer loyalty.</span></div>\n
LOCATION:
UID:e.434.10459
SEQUENCE:3
DTSTAMP:20260422T223102Z
URL:https://business.glenviewchamber.com/events/details/access-the-experts-10459
END:VEVENT

END:VCALENDAR
