BEGIN:VCALENDAR
VERSION:2.0
PRODID:-//ChamberMaster//Event Calendar 2.0//EN
METHOD:PUBLISH
X-PUBLISHED-TTL:P3D
REFRESH-INTERVAL:P3D
CALSCALE:GREGORIAN
BEGIN:VEVENT
DTSTART:20200915T170000Z
DTEND:20200915T180000Z
X-MICROSOFT-CDO-ALLDAYEVENT:FALSE
SUMMARY:Access the Experts
DESCRIPTION:Lunch & Learn via Zoom On Keeping Kids Healthy Presented by Dr. Abby Kramer of \n\nBe Optimal Holistic Health\n\n\n\nIn this session you will learn:\n\n\n	Recommendations for keeping kids energetic\, engaged\, and focused during the school day\n	Diet + supplementation recommendations for kids optimal health\n	How to help kids manage anxiety and stress
X-ALT-DESC;FMTTYPE=text/html:<p><strong><span style="color:#1F497D\;"><span style="font-family:calibri\,sans-serif\;"><span style="font-size:13.5pt\;">Lunch &amp\; Learn via Zoom On Keeping Kids Healthy Presented by Dr. Abby Kramer of&nbsp\;</span></span></span></strong><br />\n<strong><span style="color:#1F497D\;"><span style="font-family:calibri\,sans-serif\;"><span style="font-size:13.5pt\;">Be Optimal Holistic Health</span></span></span></strong></p>\n\n<p><br />\n<span style="font-family:trebuchet ms\,sans-serif\;">In this session you will learn:</span></p>\n\n<ul>\n	<li><span style="font-family:trebuchet ms\,sans-serif\;">Recommendations for keeping kids energetic\, engaged\, and focused during the school day</span></li>\n	<li><span style="font-family:trebuchet ms\,sans-serif\;">Diet&nbsp\;+ supplementation recommendations for kids optimal health</span></li>\n	<li><span style="font-family:trebuchet ms\,sans-serif\;">How to help kids manage anxiety and stress&nbsp\;</span></li>\n</ul>\n
LOCATION:
UID:e.434.10466
SEQUENCE:3
DTSTAMP:20260422T234736Z
URL:https://business.glenviewchamber.com/events/details/access-the-experts-10466
END:VEVENT

END:VCALENDAR
