BEGIN:VCALENDAR
VERSION:2.0
PRODID:-//ChamberMaster//Event Calendar 2.0//EN
METHOD:PUBLISH
X-PUBLISHED-TTL:P3D
REFRESH-INTERVAL:P3D
CALSCALE:GREGORIAN
BEGIN:VEVENT
DTSTART:20200618T203000Z
DTEND:20200618T213000Z
X-MICROSOFT-CDO-ALLDAYEVENT:FALSE
SUMMARY:Access the Experts-Content Creation-The Key to Getting Yourself Noticed
DESCRIPTION:Access the Experts:\n\nPresented by: PJ Weiland of ActionCOACH\n\nTopic: Content Creation   The Key to Getting Yourself Noticed\n\n\n\nThis session will cover the following:\n\n	Creating meaningful content\n	What to say - messaging\n	Where to post   channels\, databases\n	Original content or Media content\n	Frequency of communication\n	Recycling content \n\nKeep in mind for this session:\n\n\n	Outdoor seating\n	Everyone seated at individual tables\n	Color coded system used to maintain social distancing\n	Hand sanitizer will be available at check in\n	Food and drink is not included\n	Masks are required if you go inside
X-ALT-DESC;FMTTYPE=text/html:<br />\n<span style="font-size:14px\;"><span style="font-family:times new roman\;"><strong><span style="color:black\;">Access the Experts:</span></strong><br />\n<strong><span style="color:black\;">Presented by: PJ Weiland of ActionCOACH</span></strong><br />\n<strong><span style="color:black\;">Topic: Content Creation &ndash\; The Key to Getting Yourself Noticed</span></strong><br />\n<br />\n<span style="color:black\;">This session will cover the following:</span></span></span>\n<ul>\n	<li><span style="font-size:14px\;"><span style="font-family:times new roman\;">Creating meaningful content</span></span></li>\n	<li><span style="font-size:14px\;"><span style="font-family:times new roman\;">What to say - messaging</span></span></li>\n	<li><span style="font-size:14px\;"><span style="font-family:times new roman\;">Where to post &ndash\; channels\, databases</span></span></li>\n	<li><span style="font-size:14px\;"><span style="font-family:times new roman\;">Original content or Media content</span></span></li>\n	<li><span style="font-size:14px\;"><span style="font-family:times new roman\;">Frequency of communication</span></span></li>\n	<li><span style="font-size:14px\;"><span style="font-family:times new roman\;">Recycling content </span></span></li>\n</ul>\n<span style="font-size:14px\;"><span style="font-family:times new roman\;"><span style="color:black\;">Keep in mind for this session:</span></span></span>\n\n<ul>\n	<li style="color:#333333\;background:white\;"><span style="font-size:14px\;"><span style="font-family:times new roman\;">Outdoor seating</span></span></li>\n	<li style="color:#333333\;background:white\;"><span style="font-size:14px\;"><span style="font-family:times new roman\;">Everyone seated at individual tables</span></span></li>\n	<li style="color:#333333\;background:white\;"><span style="font-size:14px\;"><span style="font-family:times new roman\;">Color coded system used to maintain social distancing</span></span></li>\n	<li style="color:#333333\;background:white\;"><span style="font-size:14px\;"><span style="font-family:times new roman\;">Hand sanitizer will be available at check in</span></span></li>\n	<li style="color:#333333\;background:white\;"><span style="font-size:14px\;"><span style="font-family:times new roman\;">Food and drink is not included</span></span></li>\n	<li style="color:#333333\;background:white\;"><span style="font-size:14px\;"><span style="font-family:times new roman\;">Masks are required if you go inside </span></span></li>\n</ul>\n
LOCATION:Location: Ten Ninety Brewing Company\, 1025 Waukegan Road\, Outdoor Seating is Limited Email: info@glenviewchamber.com to register
UID:e.434.10391
SEQUENCE:3
DTSTAMP:20260423T005516Z
URL:https://business.glenviewchamber.com/events/details/access-the-experts-content-creation-the-key-to-getting-yourself-noticed-10391
END:VEVENT

END:VCALENDAR
