BEGIN:VCALENDAR
VERSION:2.0
PRODID:-//ChamberMaster//Event Calendar 2.0//EN
METHOD:PUBLISH
X-PUBLISHED-TTL:P3D
REFRESH-INTERVAL:P3D
CALSCALE:GREGORIAN
BEGIN:VEVENT
DTSTART:20200701T023000Z
DTEND:20200701T033000Z
X-MICROSOFT-CDO-ALLDAYEVENT:FALSE
SUMMARY:Access the Experts: How to Access BIG Funds
DESCRIPTION:Glenview Chamber Access the Experts Series\n\n"How to Access BIG Funds"\n\nA conversation with Agnes Masnik\n\nNorthern Stateline Regional Manager & FDI\n\nIL Department of Commerce & Economic Opportunity\n\n\n\nA conversation with Agnes Masnik\n\nNorthern Stateline Regional Manager & FDI\n\nIL Department of Commerce & Economic Opportunity
X-ALT-DESC;FMTTYPE=text/html:<strong style="-webkit-font-smoothing: antialiased\; color: rgb(50\, 49\, 48)\; font-family: &quot\;Times New Roman&quot\;\, serif\; font-size: 16px\; background-color: rgb(255\, 255\, 255)\;"><span style="-webkit-font-smoothing: antialiased\; margin: 0px\; padding: 0px\; border: 1pt none windowtext\; font-style: inherit\; font-variant: inherit\; font-weight: inherit\; font-stretch: inherit\; font-size: 14pt\; line-height: inherit\; font-family: Arial\, sans-serif\; vertical-align: baseline\; color: black\;">Glenview Chamber Access the Experts Series</span></strong><br style="-webkit-font-smoothing: antialiased\;" />\n<strong style="-webkit-font-smoothing: antialiased\; color: rgb(50\, 49\, 48)\; font-family: &quot\;Times New Roman&quot\;\, serif\; font-size: 16px\; background-color: rgb(255\, 255\, 255)\;"><span style="-webkit-font-smoothing: antialiased\; margin: 0px\; padding: 0px\; border: 1pt none windowtext\; font-style: inherit\; font-variant: inherit\; font-weight: inherit\; font-stretch: inherit\; font-size: 14pt\; line-height: inherit\; font-family: Arial\, sans-serif\; vertical-align: baseline\; color: black\;">&quot\;How to Access BIG Funds&quot\;</span><br />\n<span style="-webkit-font-smoothing: antialiased\; margin: 0px\; padding: 0px\; border: 0px\; font-style: inherit\; font-variant: inherit\; font-weight: inherit\; font-stretch: inherit\; font-size: 14pt\; line-height: inherit\; font-family: Arial\, sans-serif\; vertical-align: baseline\; color: black\;">A conversation with Agnes Masnik</span></strong><br style="-webkit-font-smoothing: antialiased\;" />\n<em style="-webkit-font-smoothing: antialiased\; color: rgb(50\, 49\, 48)\; font-family: &quot\;Times New Roman&quot\;\, serif\; font-size: 16px\; background-color: rgb(255\, 255\, 255)\;"><b style="-webkit-font-smoothing: antialiased\;"><span style="-webkit-font-smoothing: antialiased\; margin: 0px\; padding: 0px\; border: 0px\; font-style: inherit\; font-variant: inherit\; font-weight: inherit\; font-stretch: inherit\; font-size: inherit\; line-height: inherit\; font-family: Arial\, sans-serif\; vertical-align: baseline\; color: black\;">Northern Stateline Regional Manager &amp\; FDI</span></b></em><br style="-webkit-font-smoothing: antialiased\;" />\n<b style="-webkit-font-smoothing: antialiased\; color: rgb(50\, 49\, 48)\; font-family: &quot\;Times New Roman&quot\;\, serif\; font-size: 16px\; background-color: rgb(255\, 255\, 255)\;"><i style="-webkit-font-smoothing: antialiased\;"><span style="-webkit-font-smoothing: antialiased\; margin: 0px\; padding: 0px\; border: 0px\; font-style: inherit\; font-variant: inherit\; font-weight: inherit\; font-stretch: inherit\; font-size: inherit\; line-height: inherit\; font-family: Arial\, sans-serif\; vertical-align: baseline\; color: black\;"><em style="-webkit-font-smoothing: antialiased\;"><span style="-webkit-font-smoothing: antialiased\; margin: 0px\; padding: 0px\; border: 0px\; font-style: inherit\; font-variant: inherit\; font-weight: inherit\; font-stretch: inherit\; font-size: inherit\; line-height: inherit\; vertical-align: baseline\; color: inherit\;">IL Department of Commerce &amp\; Economic Opportunity</span></em></span></i></b><br style="-webkit-font-smoothing: antialiased\;" />\n<br style="-webkit-font-smoothing: antialiased\;" />\n<strong style="-webkit-font-smoothing: antialiased\; color: rgb(50\, 49\, 48)\; font-family: &quot\;Times New Roman&quot\;\, serif\; font-size: 16px\; background-color: rgb(255\, 255\, 255)\;"><span style="-webkit-font-smoothing: antialiased\; margin: 0px\; padding: 0px\; border: 0px\; font-style: inherit\; font-variant: inherit\; font-weight: inherit\; font-stretch: inherit\; font-size: 14pt\; line-height: inherit\; font-family: Arial\, sans-serif\; vertical-align: baseline\; color: black\;">A conversation with Agnes Masnik</span></strong><br style="-webkit-font-smoothing: antialiased\;" />\n<em style="-webkit-font-smoothing: antialiased\; color: rgb(50\, 49\, 48)\; font-family: &quot\;Times New Roman&quot\;\, serif\; font-size: 16px\; background-color: rgb(255\, 255\, 255)\;"><b style="-webkit-font-smoothing: antialiased\;"><span style="-webkit-font-smoothing: antialiased\; margin: 0px\; padding: 0px\; border: 0px\; font-style: inherit\; font-variant: inherit\; font-weight: inherit\; font-stretch: inherit\; font-size: inherit\; line-height: inherit\; font-family: Arial\, sans-serif\; vertical-align: baseline\; color: black\;">Northern Stateline Regional Manager &amp\; FDI</span></b></em><br style="-webkit-font-smoothing: antialiased\;" />\n<b style="-webkit-font-smoothing: antialiased\; color: rgb(50\, 49\, 48)\; font-family: &quot\;Times New Roman&quot\;\, serif\; font-size: 16px\; background-color: rgb(255\, 255\, 255)\;"><i style="-webkit-font-smoothing: antialiased\;"><span style="-webkit-font-smoothing: antialiased\; margin: 0px\; padding: 0px\; border: 0px\; font-style: inherit\; font-variant: inherit\; font-weight: inherit\; font-stretch: inherit\; font-size: inherit\; line-height: inherit\; font-family: Arial\, sans-serif\; vertical-align: baseline\; color: black\;"><em style="-webkit-font-smoothing: antialiased\;"><span style="-webkit-font-smoothing: antialiased\; margin: 0px\; padding: 0px\; border: 0px\; font-style: inherit\; font-variant: inherit\; font-weight: inherit\; font-stretch: inherit\; font-size: inherit\; line-height: inherit\; vertical-align: baseline\; color: inherit\;">IL Department of Commerce &amp\; Economic Opportunity</span></em></span></i></b>
LOCATION:Vitual ZOOM Meeting. Meeting ID access code will be emailed on Monday 6/29/20. Join the Glenview Chamber and our colleagues at north suburban Chambers of Commerce for a virtual conversation with the latest information from DCEO about the Business Interruption Grants (BIG) and how to reopen your business under the Phase 4 Guidelines. We will leave plenty of time for Q & A. Participating Chambers: Glenview\, Highland Park\, DBR\, Evanston\, Lake Forest/Lake Bluff\, Lincolnwood\, Niles\, Northbrook\, Wilmette/Kenilworth and Winnetka/Northfield
UID:e.434.10394
SEQUENCE:3
DTSTAMP:20260423T021423Z
URL:https://business.glenviewchamber.com/events/details/access-the-experts-how-to-access-big-funds-10394
END:VEVENT

END:VCALENDAR
