BEGIN:VCALENDAR
VERSION:2.0
PRODID:-//ChamberMaster//Event Calendar 2.0//EN
METHOD:PUBLISH
X-PUBLISHED-TTL:P3D
REFRESH-INTERVAL:P3D
CALSCALE:GREGORIAN
BEGIN:VEVENT
DTSTART:20210107T203000Z
DTEND:20210107T213000Z
X-MICROSOFT-CDO-ALLDAYEVENT:FALSE
SUMMARY:Access the Experts-PPP Funding Phase 2
DESCRIPTION:Access the Experts - PPP Funding Phase 2\n\nThursday\, January 7\n\n2:30 -3:30 pm\n\n \n\nRobert Rounsfull of Rounsfull Financial Group will present a second session about the updated PPP provisions and other business assistance found in the new COVID relief legislation. You will want to get on this zoom call to learn about timing and how to apply to maximize your potential for funding.
X-ALT-DESC;FMTTYPE=text/html:<strong><span style="color:#14161A\;">Access the Experts - PPP Funding Phase 2</span></strong><br />\n<strong><span style="color:#14161A\;">Thursday\, January 7</span></strong><br />\n<strong><span style="color:#14161A\;">2:30 -3:30 pm</span></strong><br />\n&nbsp\;<br />\n<span style="color:#434C54\;"><span style="font-family:calibri\,sans-serif\;"><span style="font-size:11.0pt\;">Robert Rounsfull of Rounsfull Financial Group will present a second session about the updated PPP provisions and other business assistance found in the new COVID relief legislation.&nbsp\;You will want to get on this zoom call to learn about timing and how to apply to maximize your potential for funding.</span></span></span>
LOCATION:Register in advance for this meeting: https://us02web.zoom.us/meeting/register/tZcrcOyvqjwrH9Em47sP4tfbMY2yzewF95A2
UID:e.434.10522
SEQUENCE:3
DTSTAMP:20260424T081026Z
URL:https://business.glenviewchamber.com/events/details/access-the-experts-ppp-funding-phase-2-10522
END:VEVENT

END:VCALENDAR
