BEGIN:VCALENDAR
VERSION:2.0
PRODID:-//ChamberMaster//Event Calendar 2.0//EN
METHOD:PUBLISH
X-PUBLISHED-TTL:P3D
REFRESH-INTERVAL:P3D
CALSCALE:GREGORIAN
BEGIN:VEVENT
DTSTART:20200714T143000Z
DTEND:20200714T153000Z
X-MICROSOFT-CDO-ALLDAYEVENT:FALSE
SUMMARY:Access the Experts- Reach Your Clients Through Social Media
DESCRIPTION:Access the Experts: Reach Your Clients Through Social Media\n\nPresented by: Gina Speckman\, CNSCVB\n\n \n\n \n\n \n\nRegister in advance for this meeting:\n\nhttps://us02web.zoom.us/meeting/register/tZwvceippjMuHt1eFLysqGV1A3Bcyi8OwxhG\n\n \n\nAfter registering\, you will receive a confirmation email containing information about joining the meeting.\n\n \n\nThis session will cover the following:\n\n\n	Facebook and Instagram   how posting now is different than pre-Covid\n	How to amplify your website and other outreach through social media\n	Partnerships   how to find them and use them on social media\n	Using video\, 360 photography\, landscape shots and carousel images in your posts
X-ALT-DESC;FMTTYPE=text/html:<div style="color: rgb(255\, 255\, 255)\; font-family: Helvetica\, Arial\, sans-serif\; font-size: 18px\; font-weight: 700\;"><span style="color: rgb(1\, 63\, 91)\; font-family: Calibri\, Helvetica\, Arial\, sans-serif\;">Access the Experts: Reach Your Clients Through Social Media</span></div>\n\n<div style="color: rgb(255\, 255\, 255)\; font-family: Helvetica\, Arial\, sans-serif\; font-size: 18px\; font-weight: 700\;"><span style="color: rgb(1\, 63\, 91)\; font-family: Calibri\, Helvetica\, Arial\, sans-serif\;">Presented by: Gina Speckman\, CNSCVB</span></div>\n\n<div style="color: rgb(255\, 255\, 255)\; font-family: Helvetica\, Arial\, sans-serif\; font-size: 18px\; font-weight: 700\;">&nbsp\;</div>\n\n<div style="color: rgb(255\, 255\, 255)\; font-family: Helvetica\, Arial\, sans-serif\; font-size: 18px\; font-weight: 700\;">&nbsp\;</div>\n\n<div align="center" style="color: rgb(255\, 255\, 255)\; font-family: Helvetica\, Arial\, sans-serif\; font-size: 18px\; font-weight: 700\; text-align: center\;">&nbsp\;</div>\n\n<div style="color: rgb(255\, 255\, 255)\; font-family: Helvetica\, Arial\, sans-serif\; font-size: 18px\; font-weight: 700\;"><span style="font-size: 16px\; color: rgb(1\, 63\, 91)\; font-weight: normal\; font-family: Calibri\, Helvetica\, Arial\, sans-serif\;">Register in advance for this meeting:</span></div>\n\n<div style="color: rgb(255\, 255\, 255)\; font-family: Helvetica\, Arial\, sans-serif\; font-size: 18px\; font-weight: 700\;"><a href="https://us02web.zoom.us/meeting/register/tZwvceippjMuHt1eFLysqGV1A3Bcyi8OwxhG" rel="noopener noreferrer" style="font-size: 16px\; color: rgb(1\, 63\, 91)\; font-weight: normal\; font-family: Calibri\, Helvetica\, Arial\, sans-serif\;" target="_blank">https://us02web.zoom.us/meeting/register/tZwvceippjMuHt1eFLysqGV1A3Bcyi8OwxhG</a></div>\n\n<div style="color: rgb(255\, 255\, 255)\; font-family: Helvetica\, Arial\, sans-serif\; font-size: 18px\; font-weight: 700\;">&nbsp\;</div>\n\n<div style="color: rgb(255\, 255\, 255)\; font-family: Helvetica\, Arial\, sans-serif\; font-size: 18px\; font-weight: 700\;"><span style="font-size: 16px\; color: rgb(1\, 63\, 91)\; font-weight: normal\; font-family: Calibri\, Helvetica\, Arial\, sans-serif\;">After registering\, you will receive a confirmation email containing information about joining the meeting.</span></div>\n\n<div style="color: rgb(255\, 255\, 255)\; font-family: Helvetica\, Arial\, sans-serif\; font-size: 18px\; font-weight: 700\;">&nbsp\;</div>\n\n<div style="color: rgb(255\, 255\, 255)\; font-family: Helvetica\, Arial\, sans-serif\; font-size: 18px\; font-weight: 700\;"><span style="font-size: 16px\; color: rgb(1\, 63\, 91)\; font-weight: normal\; font-family: Calibri\, Helvetica\, Arial\, sans-serif\;">This session will cover the following:</span></div>\n\n<ul style="padding-right: 0px\; padding-left: 0px\; margin: 0px 0px 0px 40px\; color: rgb(255\, 255\, 255)\; font-family: Helvetica\, Arial\, sans-serif\; font-size: 18px\; font-weight: 700\;">\n	<li style="padding: 0px\; margin: 0px\; line-height: 1.2\; font-size: 16px\; color: rgb(1\, 63\, 91)\;"><span style="font-weight: normal\; font-family: Calibri\, Helvetica\, Arial\, sans-serif\;">Facebook and Instagram &ndash\; how posting now is different than pre-Covid</span></li>\n	<li style="padding: 0px\; margin: 0px\; line-height: 1.2\; font-size: 16px\; color: rgb(1\, 63\, 91)\;"><span style="font-weight: normal\; font-family: Calibri\, Helvetica\, Arial\, sans-serif\;">How to amplify your website and other outreach through social media</span></li>\n	<li style="padding: 0px\; margin: 0px\; line-height: 1.2\; font-size: 16px\; color: rgb(1\, 63\, 91)\;"><span style="font-weight: normal\; font-family: Calibri\, Helvetica\, Arial\, sans-serif\;">Partnerships &ndash\; how to find them and use them on social media</span></li>\n	<li style="padding: 0px\; margin: 0px\; line-height: 1.2\; font-size: 16px\; color: rgb(1\, 63\, 91)\;"><span style="font-weight: normal\; font-family: Calibri\, Helvetica\, Arial\, sans-serif\;">Using video\, 360 photography\, landscape shots and carousel images in your posts</span></li>\n</ul>\n
LOCATION:
UID:e.434.10389
SEQUENCE:3
DTSTAMP:20260422T234111Z
URL:https://business.glenviewchamber.com/events/details/access-the-experts-reach-your-clients-through-social-media-10389
END:VEVENT

END:VCALENDAR
