BEGIN:VCALENDAR
VERSION:2.0
PRODID:-//ChamberMaster//Event Calendar 2.0//EN
METHOD:PUBLISH
X-PUBLISHED-TTL:P3D
REFRESH-INTERVAL:P3D
CALSCALE:GREGORIAN
BEGIN:VEVENT
DTSTART:20200625T170000Z
DTEND:20200625T180000Z
X-MICROSOFT-CDO-ALLDAYEVENT:FALSE
SUMMARY:Access the Experts-Social Media
DESCRIPTION:Access the Experts\n\n			Presented by: Michael Deenihan of HTML Global and Guest Speaker Angeli Angelos From Freedom Media Group\n\n			Topic: Social Media\n			\n			\n		\n	\n\n\n\n\n\n	\n		\n			\n			 \n\n			\n			 \n\n			 \n\n			Register in advance for this meeting:\n\n			https://us02web.zoom.us/meeting/register/tZYscuGrrz8iGNeaM13R9idXW4ZY3ZQIxQWS \n\n			 \n\n			After registering\, you will receive a confirmation email containing information about joining the meeting.
X-ALT-DESC;FMTTYPE=text/html:<div class="gl-contains-text" style="color: rgb(0\, 0\, 0)\; font-family: &quot\;Times New Roman&quot\;\; font-size: medium\;">\n<table border="0" cellpadding="0" cellspacing="0" style="border-collapse: collapse\; table-layout: fixed\; min-width: 100%\;" width="100%">\n	<tbody>\n		<tr>\n			<td align="left" class="editor-text feature-heading-text" style="-webkit-font-smoothing: antialiased\; font-family: Helvetica\, Arial\, sans-serif\; font-size: 18px\; color: rgb(255\, 255\, 255)\; display: block\; overflow-wrap: break-word\; line-height: 1.2\; font-weight: bold\; padding: 10px 20px 10px 10px\;" valign="top">\n			<div class="text-container galileo-ap-content-editor">\n			<div><span style="color: rgb(1\, 63\, 91)\; font-family: Calibri\, Helvetica\, Arial\, sans-serif\;">Access the Experts</span></div>\n\n			<div><span style="color: rgb(1\, 63\, 91)\; font-family: Calibri\, Helvetica\, Arial\, sans-serif\;">Presented by:</span><span style="color: rgb(1\, 63\, 91)\; font-family: Calibri\, Helvetica\, Arial\, sans-serif\;">&nbsp\;Michael Deenihan of HTML Global and Guest Speaker Angeli Angelos From Freedom Media Group</span></div>\n\n			<div><span style="color: rgb(1\, 63\, 91)\; font-family: Calibri\, Helvetica\, Arial\, sans-serif\;">Topic: Social Media</span></div>\n			</div>\n			</td>\n		</tr>\n	</tbody>\n</table>\n</div>\n\n<div class="gl-contains-text" style="color: rgb(0\, 0\, 0)\; font-family: &quot\;Times New Roman&quot\;\; font-size: medium\;">\n<table border="0" cellpadding="0" cellspacing="0" style="border-collapse: collapse\; table-layout: fixed\; min-width: 100%\;" width="100%">\n	<tbody>\n		<tr>\n			<td align="left" class="editor-text feature-text" style="-webkit-font-smoothing: antialiased\; font-family: Helvetica\, Arial\, sans-serif\; font-size: 16px\; color: rgb(255\, 255\, 255)\; display: block\; overflow-wrap: break-word\; line-height: 1.2\; padding: 10px 20px 10px 10px\;" valign="top">\n			<div>&nbsp\;</div>\n\n			<div class="text-container galileo-ap-content-editor">\n			<div>&nbsp\;</div>\n\n			<div>&nbsp\;</div>\n\n			<div><span style="color: rgb(1\, 63\, 91)\; font-family: Calibri\, Helvetica\, Arial\, sans-serif\;">Register in advance for this meeting:</span></div>\n\n			<div><a href="https://us02web.zoom.us/meeting/register/tZYscuGrrz8iGNeaM13R9idXW4ZY3ZQIxQWS" rel="noopener noreferrer" style="color: rgb(1\, 63\, 91)\; font-family: Calibri\, Helvetica\, Arial\, sans-serif\;" target="_blank">https://us02web.zoom.us/meeting/register/tZYscuGrrz8iGNeaM13R9idXW4ZY3ZQIxQWS&nbsp\;</a></div>\n\n			<div>&nbsp\;</div>\n\n			<div><span style="color: rgb(1\, 63\, 91)\; font-family: Calibri\, Helvetica\, Arial\, sans-serif\;">After registering\, you will receive a confirmation email containing information about joining the meeting.</span></div>\n			</div>\n			</td>\n		</tr>\n	</tbody>\n</table>\n</div>\n
LOCATION:
UID:e.434.10388
SEQUENCE:3
DTSTAMP:20260423T062650Z
URL:https://business.glenviewchamber.com/events/details/access-the-experts-social-media-10388
END:VEVENT

END:VCALENDAR
