BEGIN:VCALENDAR
VERSION:2.0
PRODID:-//ChamberMaster//Event Calendar 2.0//EN
METHOD:PUBLISH
X-PUBLISHED-TTL:P3D
REFRESH-INTERVAL:P3D
CALSCALE:GREGORIAN
BEGIN:VEVENT
DTSTART:20201027T190000Z
DTEND:20201027T200000Z
X-MICROSOFT-CDO-ALLDAYEVENT:FALSE
SUMMARY:Access the Experts-Village of Glenview Discusses Updates on Cold Weather COVID Protocols for Restaurants & Retailers
DESCRIPTION:Join Jeff Brady\, Jeff Rogers and Pattie Livingston of the Village of Glenview as they discuss the update of cold weather COVID protocols for restaurants. \n\nTakeaways:\n\n\n	Update on outdoor dining policy\n	Talking about COVID rising data and what has happened in other zones\n	Chicago's North Shore Convention & Visitors Bureau will discuss how to market your business as "Safe Inside"\n	Q&A at the end
X-ALT-DESC;FMTTYPE=text/html:<p>Join Jeff Brady\, Jeff Rogers and Pattie Livingston of the Village of Glenview as they discuss the update of cold weather COVID protocols for restaurants.&nbsp\;</p>\n\n<p>Takeaways:</p>\n\n<ul>\n	<li>Update on outdoor dining policy</li>\n	<li>Talking about COVID rising data and what has happened in other zones</li>\n	<li>Chicago&#39\;s North Shore Convention &amp\; Visitors Bureau will discuss how to market your business as &quot\;Safe Inside&quot\;</li>\n	<li>Q&amp\;A at the end</li>\n</ul>\n
LOCATION:Via zoom
UID:e.434.10478
SEQUENCE:3
DTSTAMP:20260422T195301Z
URL:https://business.glenviewchamber.com/events/details/access-the-experts-village-of-glenview-discusses-updates-on-cold-weather-covid-protocols-for-restaurants-retailers-10478
END:VEVENT

END:VCALENDAR
