BEGIN:VCALENDAR
VERSION:2.0
PRODID:-//ChamberMaster//Event Calendar 2.0//EN
METHOD:PUBLISH
X-PUBLISHED-TTL:P3D
REFRESH-INTERVAL:P3D
CALSCALE:GREGORIAN
BEGIN:VEVENT
DTSTART:20230622T000000Z
DTEND:20230622T010000Z
X-MICROSOFT-CDO-ALLDAYEVENT:FALSE
SUMMARY:Acute & Chronic Knee Pain
DESCRIPTION:Acute and chronic knee pain is a common complaint that affects people of all ages. Knee pain may be the result of an injury or medical condition such as a ruptured ligament\, torn cartilage\, arthritis\, gout\, and more. It can make it challenging to get around and keep you from living the full\, active life you deserve. Learn more about the causes\, symptoms\, diagnosis\, and treatment options available from Dr. Kevin Hayek at IBJI.
X-ALT-DESC;FMTTYPE=text/html:Acute and chronic knee pain is a common complaint that affects people of all ages. Knee pain may be the result of an injury or medical condition such as a ruptured ligament\, torn cartilage\, arthritis\, gout\, and more. It can make it challenging to get around and keep you from living the full\, active life you deserve. Learn more about the causes\, symptoms\, diagnosis\, and treatment options available from Dr. Kevin Hayek at IBJI.
LOCATION:Online
UID:e.434.10748
SEQUENCE:3
DTSTAMP:20260421T061637Z
URL:https://business.glenviewchamber.com/events/details/acute-chronic-knee-pain-10748
END:VEVENT

END:VCALENDAR
