BEGIN:VCALENDAR
VERSION:2.0
PRODID:-//ChamberMaster//Event Calendar 2.0//EN
METHOD:PUBLISH
X-PUBLISHED-TTL:P3D
REFRESH-INTERVAL:P3D
CALSCALE:GREGORIAN
BEGIN:VEVENT
DTSTART:20240118T190000Z
DTEND:20240118T200000Z
X-MICROSOFT-CDO-ALLDAYEVENT:FALSE
SUMMARY:Advancing The Science: Dementia Research Updates
DESCRIPTION:Alzheimer's is a global health problem with more than 6 million people living with the disease in the US alone. Tremendous gains have been made in the understanding of the science and basic biology underlying Alzheimer's and other dementias. These advances are leading to great strides in strategies for prevention\, detection\, diagnostics\, and therapeutic interventions. The Alzheimer's Association is a global leader in research\, mobilizing the field to advance the vision of a world without Alzheimer's and all other dementia.
X-ALT-DESC;FMTTYPE=text/html:Alzheimer&rsquo\;s is a global health problem with more than 6 million people living with the disease in the US alone. Tremendous gains have been made in the understanding of the science and basic biology underlying Alzheimer&rsquo\;s and other dementias. These advances are leading to great strides in strategies for prevention\, detection\, diagnostics\, and therapeutic interventions. The Alzheimer&rsquo\;s Association is a global leader in research\, mobilizing the field to advance the vision of a world without Alzheimer&rsquo\;s and all other dementia.
LOCATION:Virtual
UID:e.434.10880
SEQUENCE:3
DTSTAMP:20260420T203053Z
URL:https://business.glenviewchamber.com/events/details/advancing-the-science-dementia-research-updates-10880
END:VEVENT

END:VCALENDAR
