BEGIN:VCALENDAR
VERSION:2.0
PRODID:-//ChamberMaster//Event Calendar 2.0//EN
METHOD:PUBLISH
X-PUBLISHED-TTL:P3D
REFRESH-INTERVAL:P3D
CALSCALE:GREGORIAN
BEGIN:VEVENT
DTSTART:20190628T230000Z
DTEND:20190629T010000Z
X-MICROSOFT-CDO-ALLDAYEVENT:FALSE
SUMMARY:Allstars of Project Runway Fashion Show
DESCRIPTION:Get in on the glamour! Be a part of Chicago's first-ever Allstars of Project Runway\, featuring exclusive fashions by stars from TVs hit show 'Project Runway.' These designers are coming to town to shine the spotlight on care for children and adults living with serious illness. A VIP Cocktail Meet-and-Greet will be from 6 8 p.m. on Friday\, June 28\, 2019. at the Waldorf Astoria Chicago\, 11 E Walton Street. The fashion show will be the following day on at 5 p.m.\, Saturday\, June 29\, 2019 at Theater on the Lake\, 2401 N Lake Shore Drive.
X-ALT-DESC;FMTTYPE=text/html:Get in on the glamour! Be a part of Chicago&rsquo\;s first-ever Allstars of Project Runway\, featuring exclusive fashions by stars from TVs hit show &lsquo\;Project Runway.&rsquo\; These designers are coming to town to shine the spotlight on care for children and adults living with serious illness. A VIP Cocktail Meet-and-Greet will be from 6&ndash\;8 p.m. on Friday\, June 28\, 2019. at the Waldorf Astoria Chicago\, 11 E Walton Street. The fashion show will be the following day on at 5 p.m.\, Saturday\, June 29\, 2019 at Theater on the Lake\, 2401 N Lake Shore Drive.&nbsp\;<br />\n&nbsp\;
LOCATION:Theater on the Lake\, 2401 N Lake Shore Drive\, Chicago
UID:e.434.10132
SEQUENCE:3
DTSTAMP:20260425T173223Z
URL:https://business.glenviewchamber.com/events/details/allstars-of-project-runway-fashion-show-10132
END:VEVENT

END:VCALENDAR
