BEGIN:VCALENDAR
VERSION:2.0
PRODID:-//ChamberMaster//Event Calendar 2.0//EN
METHOD:PUBLISH
X-PUBLISHED-TTL:P3D
REFRESH-INTERVAL:P3D
CALSCALE:GREGORIAN
BEGIN:VEVENT
DTSTART:20231216T160000Z
DTEND:20231216T200000Z
X-MICROSOFT-CDO-ALLDAYEVENT:FALSE
SUMMARY:Art Pop Up
DESCRIPTION:Join us for an Art Pop UP in the lobby featuring jewelry from Edith Robertson and Ceramics by Fred Follansbee.
X-ALT-DESC;FMTTYPE=text/html:Join us for an Art Pop UP in the lobby featuring jewelry from Edith Robertson and Ceramics by Fred Follansbee.
LOCATION:North Suburban YMCA\, 2705 Techny Rd\, Northbrook\, IL 60062
UID:e.434.10877
SEQUENCE:3
DTSTAMP:20260420T202920Z
URL:https://business.glenviewchamber.com/events/details/art-pop-up-10877
END:VEVENT

END:VCALENDAR
