BEGIN:VCALENDAR
VERSION:2.0
PRODID:-//ChamberMaster//Event Calendar 2.0//EN
METHOD:PUBLISH
X-PUBLISHED-TTL:P3D
REFRESH-INTERVAL:P3D
CALSCALE:GREGORIAN
BEGIN:VEVENT
DTSTART:20240917T170000Z
DTEND:20240917T180000Z
X-MICROSOFT-CDO-ALLDAYEVENT:FALSE
SUMMARY:Arthritis Uncovered: Beyond the Myths and Misconceptions
DESCRIPTION:In "Arthritis Uncovered\," we will explore the leading cause of disability in the nation\, affecting nearly 60 million adults and hundreds of thousands of children. There are more than 100 types of arthritis and related conditions that damage joints and sometimes other organs. In this session we'll cover the most prevalent forms of arthritis\, their symptoms\, diagnosis\, along with strategies and tips for effective communication with your healthcare team to ensure the best outcomes. Additionally\, we'll highlight resources from the Arthritis Foundation to support you at any stage of your arthritis journey. Caregivers and loved ones are warmly invited to join and gain valuable insights.
X-ALT-DESC;FMTTYPE=text/html:In &quot\;Arthritis Uncovered\,&quot\; we will explore the leading cause of disability in the nation\, affecting nearly 60 million adults and hundreds of thousands of children. There are more than 100 types of arthritis and related conditions that damage joints and sometimes other organs. In this session we&rsquo\;ll cover the most prevalent forms of arthritis\, their symptoms\, diagnosis\, along with strategies and tips for effective communication with your healthcare team to ensure the best outcomes. Additionally\, we&rsquo\;ll highlight resources from the Arthritis Foundation to support you at any stage of your arthritis journey. Caregivers and loved ones are warmly invited to join and gain valuable insights.
LOCATION:North Suburban YMCA 2705 Techny Rd. Northbrook. IL 60062
UID:e.434.11045
SEQUENCE:3
DTSTAMP:20260420T102208Z
URL:https://business.glenviewchamber.com/events/details/arthritis-uncovered-beyond-the-myths-and-misconceptions-11045
END:VEVENT

END:VCALENDAR
