BEGIN:VCALENDAR
VERSION:2.0
PRODID:-//ChamberMaster//Event Calendar 2.0//EN
METHOD:PUBLISH
X-PUBLISHED-TTL:P3D
REFRESH-INTERVAL:P3D
CALSCALE:GREGORIAN
BEGIN:VEVENT
DTSTART:20240108T190000Z
DTEND:20240108T200000Z
X-MICROSOFT-CDO-ALLDAYEVENT:FALSE
SUMMARY:Balance Strong * Live Long
DESCRIPTION:Join North Suburban YMCA Personal Trainer Karen Brownlee\, Northbrook Firefighter Ted Aquino\, and Illinois Bone and Joint Institute Physical Therapist Donna Ishak\, PT\, DPT\, for Balance Strong * Live Long in person at the NSYMCA. You will learn about the importance of preventing falls and improving your balance\, critical fall statistics\, information about the body systems involved in balance\, why falls happen\, suggestions to help you mitigate your fall risk\, exercises to improve your balance to prevent falls\, and take-home exercises to practice on your own.
X-ALT-DESC;FMTTYPE=text/html:Join North Suburban YMCA Personal Trainer Karen Brownlee\, Northbrook Firefighter Ted Aquino\, and Illinois Bone and Joint Institute Physical Therapist Donna Ishak\, PT\, DPT\, for Balance Strong * Live Long in person at the NSYMCA. You will learn about the importance of preventing falls and improving your balance\, critical fall statistics\, information about the body systems involved in balance\, why falls happen\, suggestions to help you mitigate your fall risk\, exercises to improve your balance to prevent falls\, and take-home exercises to practice on your own.
LOCATION:Virtual
UID:e.434.10878
SEQUENCE:3
DTSTAMP:20260420T203011Z
URL:https://business.glenviewchamber.com/events/details/balance-strong-live-long-10878
END:VEVENT

END:VCALENDAR
