BEGIN:VCALENDAR
VERSION:2.0
PRODID:-//ChamberMaster//Event Calendar 2.0//EN
METHOD:PUBLISH
X-PUBLISHED-TTL:P3D
REFRESH-INTERVAL:P3D
CALSCALE:GREGORIAN
BEGIN:VEVENT
DTSTART:20240416T220000Z
DTEND:20240417T010000Z
X-MICROSOFT-CDO-ALLDAYEVENT:FALSE
SUMMARY:Bites & Brews
DESCRIPTION:***SOLD OUT  - TICKETS NOT AVAILABLE FOR PURCHASE AT THE DOOR***\n\nClear your calendar for the most anticipated Food Fest event in Glenview!  Now in its 11th season\, Bites & Brews sets the table for hundreds of friends and neighbors for a delectable evening of conversation\, craft beers & fine wine --- and a feast of flavors for every taste bud! Bites & Brews Fest is being held on  Tuesday\, April 16th from 5-8pm  at The Glen Club\, 2901 W Lake Ave in Glenview.  Tickets are $30 in advance\, and $35 at the door. All tickets purchased online will be available at the registration desk on site at the event. No refunds after 4/12/2024.    \n\n\n\nAs a community event organized by the Chamber\, Bites & Brews is supported by sponsors\, Glenview Bank & Trust and The Glen Club. \n\n***This is a 21+ only event. ***
X-ALT-DESC;FMTTYPE=text/html:<p><span style="color:#FF0000\;"><span style="font-family:arial\,sans-serif\;"><strong>***SOLD OUT&nbsp\; - TICKETS NOT AVAILABLE FOR PURCHASE AT THE DOOR***</strong></span></span><br />\n<span style="color:#333333\;"><span style="font-family:arial\,sans-serif\;">Clear your calendar for the most anticipated Food Fest event in Glenview!&nbsp\; Now in its 11th season\,&nbsp\;<strong><span style="font-family:arial\,sans-serif\;">Bites &amp\; Brews</span></strong>&nbsp\;sets the table for hundreds of friends and neighbors for&nbsp\;a delectable evening of&nbsp\;conversation\, craft beers &amp\; fine wine --- and a&nbsp\;<em><span style="font-family:arial\,sans-serif\;">feast</span></em>&nbsp\;of flavors for every taste bud!&nbsp\;Bites &amp\; Brews Fest is being held on&nbsp\;</span></span>&nbsp\;<strong><span style="color:#333333\;"><span style="font-family:arial\,sans-serif\;">Tuesday\, April 16<sup>th</sup>&nbsp\;from 5-8pm</span></span></strong>&nbsp\;&nbsp\;<span style="color:#333333\;"><span style="font-family:arial\,sans-serif\;">at The Glen Club\, 2901 W Lake Ave in Glenview.&nbsp\;&nbsp\;<strong><span style="font-family:arial\,sans-serif\;">Tickets are $30 in advance\, and $35 at the door.&nbsp\;</span></strong></span></span><strong><span style="color:red\;"><span style="font-family:arial\,sans-serif\;">All tickets purchased online will be available at the registration desk on site at the event. No refunds after 4/12/2024.&nbsp\; &nbsp\;</span></span></strong>&nbsp\;<br />\n<br />\n<span style="color:#333333\;"><span style="font-family:arial\,sans-serif\;">As a community event organized by the Chamber\, Bites &amp\; Brews is supported by sponsors\,&nbsp\;<strong><span style="font-family:arial\,sans-serif\;">Glenview Bank &amp\; Trust and&nbsp\;The Glen Club. </span></strong></span></span><br />\n<span style="color:#FF0000\;"><span style="font-family:arial\,sans-serif\;"><strong><span style="font-family:arial\,sans-serif\;">***This is a 21+ only event. ***</span></strong></span></span><br />\n<br />\n&nbsp\;</p>\n
LOCATION:
UID:e.434.10913
SEQUENCE:3
DTSTAMP:20260420T112240Z
URL:https://business.glenviewchamber.com/events/details/bites-brews-10913
END:VEVENT

END:VCALENDAR
