BEGIN:VCALENDAR
VERSION:2.0
PRODID:-//ChamberMaster//Event Calendar 2.0//EN
METHOD:PUBLISH
X-PUBLISHED-TTL:P3D
REFRESH-INTERVAL:P3D
CALSCALE:GREGORIAN
BEGIN:VEVENT
DTSTART:20190928T160000Z
DTEND:20190929T040000Z
X-MICROSOFT-CDO-ALLDAYEVENT:FALSE
SUMMARY:Blocktoberfest
DESCRIPTION:Bodacious Beer | Tasty Eats | Live Music | Family Fun\n\n\nBring the whole family and round up your neighbors for a humdinger of a good time!\n\n\n\nLEDERHOSEN & DIRNDLS ENCOURAGED\n\n\n\nThe full schedule of events includes:\n\n \n\n11 am - on                   Performers from Rock House\, Terra Sounds and family friendly activities\n\n12 pm                          Die Musikmeisters Band\n\n2 pm                            Sincerely\, Sarlacc\n\n3:15 pm                       Victor Brown Band\n\n4:45 pm                       Funktastic\n\n6:15 pm                       Hoopla!\n\n8:15 pm                       Tributosaurus becomes The Rolling Stones\n\n \n\nThe 11 am - 10:30 pm fest takes place along Glenview Rd. between Church St. and Pine St.\, with a special VIP area in the breezeway of the Midtown Square Apartments offering premium views of the bands plus several other deluxe amenities. VIP tickets run $100 per person. Food and beverages\, including craft beer and wine\, will be available for purchase.
X-ALT-DESC;FMTTYPE=text/html:<h1 class="elementor-heading-title elementor-size-xl" style="box-sizing: border-box\; color: rgb(254\, 207\, 11)\; font-family: Roboto\, sans-serif\; margin: 0px\; font-weight: 600\; line-height: 1\; font-size: 39px\; padding: 0px\; text-align: center\;"><span style="color: rgb(51\, 51\, 51)\; font-family: sans-serif\, Arial\, Verdana\, &quot\;Trebuchet MS&quot\;\; font-size: 13px\;">Bodacious Beer | Tasty Eats | Live Music | Family Fun</span></h1>\n<br />\nBring the whole family and round up your neighbors for a humdinger of a good time!<br />\n<br />\nLEDERHOSEN &amp\; DIRNDLS ENCOURAGED<br />\n<br />\n<span style="color:black\;"><span style="font-family:arial\,sans-serif\;">The full schedule of events includes:</span></span><br />\n&nbsp\;<br />\n<span style="color:black\;"><span style="font-family:arial\,sans-serif\;">11 am - on&nbsp\;&nbsp\;&nbsp\;&nbsp\;&nbsp\;&nbsp\;&nbsp\;&nbsp\;&nbsp\;&nbsp\;&nbsp\;&nbsp\;&nbsp\;&nbsp\;&nbsp\;&nbsp\;&nbsp\;&nbsp\; Performers from Rock House\, Terra Sounds and family friendly activities</span></span><br />\n<span style="color:black\;"><span style="font-family:arial\,sans-serif\;">12 pm &nbsp\;&nbsp\;&nbsp\;&nbsp\;&nbsp\;&nbsp\;&nbsp\;&nbsp\;&nbsp\;&nbsp\;&nbsp\;&nbsp\;&nbsp\;&nbsp\;&nbsp\;&nbsp\;&nbsp\;&nbsp\;&nbsp\;&nbsp\;&nbsp\;&nbsp\;&nbsp\;&nbsp\; Die Musikmeisters Band</span></span><br />\n<span style="color:black\;"><span style="font-family:arial\,sans-serif\;">2 pm &nbsp\;&nbsp\;&nbsp\;&nbsp\;&nbsp\;&nbsp\;&nbsp\;&nbsp\;&nbsp\;&nbsp\;&nbsp\;&nbsp\;&nbsp\;&nbsp\;&nbsp\;&nbsp\;&nbsp\;&nbsp\;&nbsp\;&nbsp\;&nbsp\;&nbsp\;&nbsp\;&nbsp\;&nbsp\;&nbsp\; Sincerely\, Sarlacc</span></span><br />\n<span style="color:black\;"><span style="font-family:arial\,sans-serif\;">3:15 pm &nbsp\;&nbsp\;&nbsp\;&nbsp\;&nbsp\;&nbsp\;&nbsp\;&nbsp\;&nbsp\;&nbsp\;&nbsp\;&nbsp\;&nbsp\;&nbsp\;&nbsp\;&nbsp\;&nbsp\;&nbsp\;&nbsp\;&nbsp\;&nbsp\; Victor Brown Band</span></span><br />\n<span style="color:black\;"><span style="font-family:arial\,sans-serif\;">4:45 pm &nbsp\;&nbsp\;&nbsp\;&nbsp\;&nbsp\;&nbsp\;&nbsp\;&nbsp\;&nbsp\;&nbsp\;&nbsp\;&nbsp\;&nbsp\;&nbsp\;&nbsp\;&nbsp\;&nbsp\;&nbsp\;&nbsp\;&nbsp\;&nbsp\; Funktastic</span></span><br />\n<span style="color:black\;"><span style="font-family:arial\,sans-serif\;">6:15 pm &nbsp\;&nbsp\;&nbsp\;&nbsp\;&nbsp\;&nbsp\;&nbsp\;&nbsp\;&nbsp\;&nbsp\;&nbsp\;&nbsp\;&nbsp\;&nbsp\;&nbsp\;&nbsp\;&nbsp\;&nbsp\;&nbsp\;&nbsp\;&nbsp\; Hoopla!</span></span><br />\n<span style="color:black\;"><span style="font-family:arial\,sans-serif\;">8:15 pm &nbsp\;&nbsp\;&nbsp\;&nbsp\;&nbsp\;&nbsp\;&nbsp\;&nbsp\;&nbsp\;&nbsp\;&nbsp\;&nbsp\;&nbsp\;&nbsp\;&nbsp\;&nbsp\;&nbsp\;&nbsp\;&nbsp\;&nbsp\;&nbsp\; Tributosaurus becomes The Rolling Stones</span></span><br />\n&nbsp\;<br />\n<span style="color:black\;"><span style="font-family:arial\,sans-serif\;">The 11 am - 10:30 pm fest takes place along Glenview Rd. between Church St. and Pine St.\, with a special VIP area in the breezeway of the Midtown Square Apartments offering premium views of the bands plus several other deluxe amenities. VIP tickets run $100 per person. Food and beverages\, including craft beer and wine\, will be available for purchase.</span></span>\n\n<div class="elementor-element elementor-element-5705faf elementor-widget elementor-widget-heading" data-element_type="widget" data-id="5705faf" data-widget_type="heading.default" style="box-sizing: border-box\; position: relative\; width: 1140px\; margin-bottom: 20px\; text-align: center\; color: rgb(0\, 0\, 0)\; font-family: &quot\;Open Sans&quot\;\; font-size: 16px\;">\n<div class="elementor-widget-container" style="box-sizing: border-box\; transition: background 0.3s ease 0s\, border 0.3s ease 0s\, border-radius 0.3s ease 0s\, box-shadow 0.3s ease 0s\, -webkit-border-radius 0.3s ease 0s\, -webkit-box-shadow 0.3s ease 0s\;">\n<h4 class="elementor-heading-title elementor-size-default" style="box-sizing: border-box\; color: rgb(255\, 255\, 255)\; font-family: &quot\;Architects Daughter&quot\;\, sans-serif\; margin: 0px\; font-weight: 600\; line-height: 1\; font-size: 45px\; padding: 0px\;">&nbsp\;</h4>\n</div>\n</div>\n
LOCATION:Glenview Road between Pine & Church Streets
UID:e.434.10178
SEQUENCE:3
DTSTAMP:20260425T123222Z
URL:https://business.glenviewchamber.com/events/details/blocktoberfest-10178
END:VEVENT

END:VCALENDAR
