BEGIN:VCALENDAR
VERSION:2.0
PRODID:-//ChamberMaster//Event Calendar 2.0//EN
METHOD:PUBLISH
X-PUBLISHED-TTL:P3D
REFRESH-INTERVAL:P3D
CALSCALE:GREGORIAN
BEGIN:VEVENT
DTSTART:20211002T160000Z
DTEND:20211003T040000Z
X-MICROSOFT-CDO-ALLDAYEVENT:FALSE
SUMMARY:Blocktoberfest
DESCRIPTION:Bodacious Beer | Tasty Eats | Live Music | Family Fun\n\n\nBring the whole family and round up your neighbors for a humdinger of a good time!\n\n\n\nLEDERHOSEN & DIRNDLS ENCOURAGED\n\n\n\nGlenview Chamber of Commerce\, Friends of Downtown Glenview\, Ten Ninety Brewing presents the second annual Blocktoberfest! The 11 am - 11 pm fest takes place along Glenview Rd. between Church St. and Pine St.\, with a special VIP area in the breezeway of the Midtown Square Apartments offering premium views of the bands plus several other deluxe amenities. Admission is FREE. VIP tickets run $100 per person. Food and beverages\, including craft beer and wine\, will be available for purchase. A kid friendly section with games\, arts/crafts\, prizes will be on Church Street from 11am-3pm. Sign up to volunteer: https://glenviewblocktoberfest.com/volunteer/\n\nSponsors for this event include: \n\nBusey Bank \n\nMacPherson Westhoff Group | Compass \n\nTeam Trux @ Properties\n\nGlenview Bank & Trust\n\nTwelve Tone Music School\n\nLynch McPeek Wealth Management
X-ALT-DESC;FMTTYPE=text/html:<h1 class="elementor-heading-title elementor-size-xl" style="font-weight: 600\; line-height: 1\; box-sizing: border-box\; color: rgb(254\, 207\, 11)\; font-family: Roboto\, sans-serif\; margin: 0px\; font-size: 39px\; padding: 0px\; text-align: center\;"><span style="font-size:12px\;"><span style="font-family:verdana\;"><span style="color: rgb(51\, 51\, 51)\;">Bodacious Beer | Tasty Eats | Live Music | Family Fun</span></span></span></h1>\n<br />\n<span style="font-size:12px\;"><span style="font-family:verdana\;">Bring the whole family and round up your neighbors for a humdinger of a good time!<br />\n<br />\nLEDERHOSEN &amp\; DIRNDLS ENCOURAGED<br />\n<br />\n<span style="color:#000000\;"><span style="white-space: pre-wrap\;">Glenview Chamber of Commerce\, Friends of Downtown Glenview\, Ten Ninety Brewing presents the second annual Blocktoberfest!</span></span><span style="color: rgb(31\, 73\, 125)\; white-space: pre-wrap\;"> </span><span style="color: black\;">The 11 am - 11 pm fest takes place along Glenview Rd. between Church St. and Pine St.\, with a special VIP area in the breezeway of the Midtown Square Apartments offering premium views of the bands plus several other deluxe amenities. Admission is FREE. VIP tickets run $100 per person. Food and beverages\, including craft beer and wine\, will be available for purchase. A kid friendly section with games\, arts/crafts\, prizes will be on Church Street from 11am-3pm. </span><span style="font-size:14px\;"><em><span style="color:#FF8C00\;"><strong>Sign up to volunteer:&nbsp\;</strong></span></em></span></span></span><span style="font-size:14px\;"><em><strong><span style="font-family:times new roman\,serif\;"><a href="https://glenviewblocktoberfest.com/volunteer/"><span style="color:#FF8C00\;"><span style="font-family:helvetica\,sans-serif\;">https://glenviewblocktoberfest.com/volunteer/</span></span></a></span></strong></em></span><br />\n<span style="font-size:12px\;"><span style="font-family:verdana\;"><span style="color: black\;">Sponsors for this event include:&nbsp\;</span></span></span><br />\n<span style="color:#000000\;"><span style="font-family:calibri\,sans-serif\;"><span style="font-size:11.0pt\;"><strong>Busey Bank&nbsp\;</strong><br />\nMacPherson Westhoff Group | Compass </span></span><br />\n<span style="font-family:calibri\,sans-serif\;"><span style="font-size:11.0pt\;">Team Trux @ Properties</span></span><br />\n<span style="font-family:calibri\,sans-serif\;"><span style="font-size:11.0pt\;">Glenview Bank &amp\; Trust<br />\nTwelve Tone Music School</span></span><br />\n<span style="font-family:calibri\,sans-serif\;"><span style="font-size:11.0pt\;">Lynch McPeek Wealth Management</span></span></span>\n\n<div class="elementor-element elementor-element-5705faf elementor-widget elementor-widget-heading" data-element_type="widget" data-id="5705faf" data-widget_type="heading.default" style="box-sizing: border-box\; position: relative\; width: 1140px\; margin-bottom: 20px\; text-align: center\; color: rgb(0\, 0\, 0)\; font-family: &quot\;Open Sans&quot\;\; font-size: 16px\;">\n<div class="elementor-widget-container" style="box-sizing: border-box\; transition: background 0.3s ease 0s\, border 0.3s ease 0s\, border-radius 0.3s ease 0s\, box-shadow 0.3s ease 0s\, -webkit-border-radius 0.3s ease 0s\, -webkit-box-shadow 0.3s ease 0s\;">\n<h4 class="elementor-heading-title elementor-size-default" style="font-weight: 600\; line-height: 1\; box-sizing: border-box\; color: rgb(255\, 255\, 255)\; font-family: &quot\;Architects Daughter&quot\;\, sans-serif\; margin: 0px\; font-size: 45px\; padding: 0px\;">&nbsp\;</h4>\n</div>\n</div>\n
LOCATION:
UID:e.434.10565
SEQUENCE:3
DTSTAMP:20260421T090748Z
URL:https://business.glenviewchamber.com/events/details/blocktoberfest-10565
END:VEVENT

END:VCALENDAR
