BEGIN:VCALENDAR
VERSION:2.0
PRODID:-//ChamberMaster//Event Calendar 2.0//EN
METHOD:PUBLISH
X-PUBLISHED-TTL:P3D
REFRESH-INTERVAL:P3D
CALSCALE:GREGORIAN
BEGIN:VEVENT
DTSTART:20220924T160000Z
DTEND:20220925T040000Z
X-MICROSOFT-CDO-ALLDAYEVENT:FALSE
SUMMARY:Blocktoberfest
DESCRIPTION:Be sure not to miss Glenview's signature fall event!\n\nWe're thrilled to announce our incredible headliner\, nationally renowned CRACKER!\n\nBlocktoberfest is presented by the Glenview Chamber of Commerce & Friends of Downtown Glenview.\n\nFood and beverages\, including craft and domestic beer\, wine and hard seltzer\, will be available for purchase.\n\nThe full schedule of events includes:\n\n11 am - 3 pm Family friendly fun zone\n\nKids Stage: Performers from Twelve Tone Music School\, School of Rock Glenbrook\n\n1:30 pm: Not For Profit\n\n3:00 pm: Twelve Tone House Band\n\n4:30 pm: Sincerely Sarlacc\n\n6:00 pm: Victor Brown Band\n\n7:30 pm: Rico Mcfarland\n\n9:00 pm: Cracker\n\nThe 11 am - 11 pm fest takes place along Glenview Rd. between Church St. and Pine St.\n\nA special VIP area will be in front of the Midtown Square Apartments. VIP Access includes an exclusive Lounge area\, VIP trailer bathrooms\, VIP stage viewing area\, VIP stainless steel Blocktoberfest cup\, VIP beer tent access\, curated food\, wine and beverage tastings from Coarse Italian\, Chicago Wine\, Babs Boards\, Pappi's Pizza famous pizzasalad\, Bubbles & Straws and much more. The price for VIP admission is $100 for adults and $20 for children. VIP tickets run $100 per person.\n\nSponsors include: Ten Ninety Brewing Co.\, Grandpa's Place\, @properties | Christie's\, Twelve Tone Music School\, Funny Water\, Busey Bank\, Glenview Bank & Trust\, Glenview House\, U.S. Waterproofing\, Ventique\, Sasha Gerritson & Eugene Jarvis\, Freshie\, Glenview Grind\, NH Scott & Hanekamp\, Twisted Trunk\, Weiss Ace Hardware\, Hangar Two and Velvet Peel. \n\nFor more information\, VIP packages or to volunteer\, visit https://glenviewblocktoberfest.com/ and purchase VIP tickets here: https://checkout.square.site/buy/AEBIVKPCYMZDFKHFDKWBNRXN
X-ALT-DESC;FMTTYPE=text/html:<div class="m8h3af8h l7ghb35v kjdc1dyq kmwttqpk gh25dzvf" style="overflow-wrap: break-word\; margin: 0px\; font-family: &quot\;Segoe UI Historic&quot\;\, &quot\;Segoe UI&quot\;\, Helvetica\, Arial\, sans-serif\; color: rgb(5\, 5\, 5)\; font-size: 15px\;">Be sure not to miss Glenview&rsquo\;s signature fall event!</div>\n\n<div class="l7ghb35v kjdc1dyq kmwttqpk gh25dzvf jikcssrz" style="overflow-wrap: break-word\; margin: 0.5em 0px 0px\; font-family: &quot\;Segoe UI Historic&quot\;\, &quot\;Segoe UI&quot\;\, Helvetica\, Arial\, sans-serif\; color: rgb(5\, 5\, 5)\; font-size: 15px\;">We&rsquo\;re thrilled to announce our incredible headliner\, nationally renowned CRACKER!</div>\n\n<div class="l7ghb35v kjdc1dyq kmwttqpk gh25dzvf jikcssrz" style="overflow-wrap: break-word\; margin: 0.5em 0px 0px\; font-family: &quot\;Segoe UI Historic&quot\;\, &quot\;Segoe UI&quot\;\, Helvetica\, Arial\, sans-serif\; color: rgb(5\, 5\, 5)\; font-size: 15px\;">Blocktoberfest is presented by the Glenview Chamber of Commerce &amp\; Friends of Downtown Glenview.</div>\n\n<div class="l7ghb35v kjdc1dyq kmwttqpk gh25dzvf jikcssrz" style="overflow-wrap: break-word\; margin: 0.5em 0px 0px\; font-family: &quot\;Segoe UI Historic&quot\;\, &quot\;Segoe UI&quot\;\, Helvetica\, Arial\, sans-serif\; color: rgb(5\, 5\, 5)\; font-size: 15px\;">Food and beverages\, including craft and domestic beer\, wine and hard seltzer\, will be available for purchase.</div>\n\n<div class="l7ghb35v kjdc1dyq kmwttqpk gh25dzvf jikcssrz" style="overflow-wrap: break-word\; margin: 0.5em 0px 0px\; font-family: &quot\;Segoe UI Historic&quot\;\, &quot\;Segoe UI&quot\;\, Helvetica\, Arial\, sans-serif\; color: rgb(5\, 5\, 5)\; font-size: 15px\;">The full schedule of events includes:<br />\n11 am - 3 pm Family friendly fun zone<br />\nKids Stage: Performers from Twelve Tone Music School\, School of Rock Glenbrook</div>\n\n<div class="l7ghb35v kjdc1dyq kmwttqpk gh25dzvf jikcssrz" style="overflow-wrap: break-word\; margin: 0.5em 0px 0px\; font-family: &quot\;Segoe UI Historic&quot\;\, &quot\;Segoe UI&quot\;\, Helvetica\, Arial\, sans-serif\; color: rgb(5\, 5\, 5)\; font-size: 15px\;">1:30 pm: Not For Profit<br />\n3:00 pm: Twelve Tone House Band<br />\n4:30 pm: Sincerely Sarlacc<br />\n6:00 pm: Victor Brown Band<br />\n7:30 pm: Rico Mcfarland<br />\n9:00 pm: Cracker</div>\n\n<div class="l7ghb35v kjdc1dyq kmwttqpk gh25dzvf jikcssrz" style="overflow-wrap: break-word\; margin: 0.5em 0px 0px\; font-family: &quot\;Segoe UI Historic&quot\;\, &quot\;Segoe UI&quot\;\, Helvetica\, Arial\, sans-serif\; color: rgb(5\, 5\, 5)\; font-size: 15px\;">The 11 am - 11 pm fest takes place along Glenview Rd. between Church St. and Pine St.</div>\n\n<div class="l7ghb35v kjdc1dyq kmwttqpk gh25dzvf jikcssrz" style="overflow-wrap: break-word\; margin: 0.5em 0px 0px\; font-family: &quot\;Segoe UI Historic&quot\;\, &quot\;Segoe UI&quot\;\, Helvetica\, Arial\, sans-serif\; color: rgb(5\, 5\, 5)\; font-size: 15px\;">A special VIP area will be in front of the Midtown Square Apartments. VIP Access includes an exclusive Lounge area\, VIP trailer bathrooms\, VIP stage viewing area\, VIP stainless steel Blocktoberfest cup\, VIP beer tent access\, curated food\, wine and beverage tastings from Coarse Italian\, Chicago Wine\, Babs Boards\, Pappi&rsquo\;s Pizza famous pizzasalad\, Bubbles &amp\; Straws and much more. The price for VIP admission is $100 for adults and $20 for children. VIP tickets run $100 per person.</div>\n\n<div class="l7ghb35v kjdc1dyq kmwttqpk gh25dzvf jikcssrz" style="overflow-wrap: break-word\; margin: 0.5em 0px 0px\; font-family: &quot\;Segoe UI Historic&quot\;\, &quot\;Segoe UI&quot\;\, Helvetica\, Arial\, sans-serif\; color: rgb(5\, 5\, 5)\; font-size: 15px\;">Sponsors include: Ten Ninety Brewing Co.\, Grandpa&#39\;s Place\, @properties | Christie&#39\;s\, Twelve Tone Music School\, Funny Water\, Busey Bank\, Glenview Bank &amp\; Trust\, Glenview House\, U.S. Waterproofing\, Ventique\, <span style="color: rgb(5\, 5\, 5)\; font-family: &quot\;Segoe UI Historic&quot\;\, &quot\;Segoe UI&quot\;\, Helvetica\, Arial\, sans-serif\; font-size: 15px\;">Sasha Gerritson &amp\; Eugene Jarvis</span><span style="font-family:times new roman\,serif\;"><span style="font-size:12.0pt\;"><span style="font-size:14px\;"><span style="font-family:verdana\;">\,</span></span>&nbsp\;</span></span>Freshie\, Glenview Grind\, NH Scott &amp\; Hanekamp\, Twisted Trunk\, Weiss Ace Hardware\, Hangar Two and Velvet Peel.&nbsp\;</div>\n\n<div class="l7ghb35v kjdc1dyq kmwttqpk gh25dzvf jikcssrz" style="overflow-wrap: break-word\; margin: 0.5em 0px 0px\; font-family: &quot\;Segoe UI Historic&quot\;\, &quot\;Segoe UI&quot\;\, Helvetica\, Arial\, sans-serif\; color: rgb(5\, 5\, 5)\; font-size: 15px\;">For more information\, VIP packages or to volunteer\, visit&nbsp\;https://glenviewblocktoberfest.com/ and purchase VIP tickets here:&nbsp\;<a href="https://checkout.square.site/buy/AEBIVKPCYMZDFKHFDKWBNRXN">https://checkout.square.site/buy/AEBIVKPCYMZDFKHFDKWBNRXN</a></div>\n
LOCATION:1800 block of Glenview Road
UID:e.434.10695
SEQUENCE:3
DTSTAMP:20260421T134522Z
URL:https://business.glenviewchamber.com/events/details/blocktoberfest-10695
END:VEVENT

END:VCALENDAR
