BEGIN:VCALENDAR
VERSION:2.0
PRODID:-//ChamberMaster//Event Calendar 2.0//EN
METHOD:PUBLISH
X-PUBLISHED-TTL:P3D
REFRESH-INTERVAL:P3D
CALSCALE:GREGORIAN
BEGIN:VEVENT
DTSTART:20230930T170000Z
DTEND:20231001T040000Z
X-MICROSOFT-CDO-ALLDAYEVENT:FALSE
SUMMARY:Blocktoberfest
DESCRIPTION:Presented by Friends of Downtown Glenview and Ten Ninety Brewing Company\n\nParty like it's 1999 with a jam-packed lineup of live music\, food\, and family entertainment.\n\nFor more information and VIP tickets\, visit glenviewblocktoberfest.com
X-ALT-DESC;FMTTYPE=text/html:Presented by Friends of Downtown Glenview and Ten Ninety Brewing Company<br />\nParty like it&#39\;s 1999 with a jam-packed lineup of live music\, food\, and family entertainment.<br />\nFor more information and VIP tickets\, visit&nbsp\;glenviewblocktoberfest.com
LOCATION:Glenview Rd. between Church and Pine
UID:e.434.10845
SEQUENCE:3
DTSTAMP:20260421T025735Z
URL:https://business.glenviewchamber.com/events/details/blocktoberfest-10845
END:VEVENT

END:VCALENDAR
