BEGIN:VCALENDAR
VERSION:2.0
PRODID:-//ChamberMaster//Event Calendar 2.0//EN
METHOD:PUBLISH
X-PUBLISHED-TTL:P3D
REFRESH-INTERVAL:P3D
CALSCALE:GREGORIAN
BEGIN:VEVENT
DTSTART:20240921T170000Z
DTEND:20240922T040000Z
X-MICROSOFT-CDO-ALLDAYEVENT:FALSE
SUMMARY:Blocktoberfest
DESCRIPTION:Come together and celebrate downtown Glenview with live music\, food\, beverages\, and family fun! Blocktoberfest will take place from noon-11pm along Glenview Road in downtown. \n\n\n\nglenviewblocktoberfest.com
X-ALT-DESC;FMTTYPE=text/html:Come together and celebrate downtown Glenview with live music\, food\, beverages\, and family fun! Blocktoberfest will take place from noon-11pm along Glenview Road in downtown.&nbsp\;<br />\n<br />\nglenviewblocktoberfest.com&nbsp\;
LOCATION:Along Glenview Road in downtown Glenview
UID:e.434.10874
SEQUENCE:3
DTSTAMP:20260420T100155Z
URL:https://business.glenviewchamber.com/events/details/blocktoberfest-10874
END:VEVENT

END:VCALENDAR
