BEGIN:VCALENDAR
VERSION:2.0
PRODID:-//ChamberMaster//Event Calendar 2.0//EN
METHOD:PUBLISH
X-PUBLISHED-TTL:P3D
REFRESH-INTERVAL:P3D
CALSCALE:GREGORIAN
BEGIN:VEVENT
DTSTART:20240630T170000Z
DTEND:20240630T210000Z
X-MICROSOFT-CDO-ALLDAYEVENT:FALSE
SUMMARY:Border Tails Rescue Summer Pawty
DESCRIPTION:Join Border Tails Rescue for a paw-some Summer Pawty extravaganza! Join us for a tail-wagging good time with a myriad of activities to delight both pets and their humans.\n\n\n\nExplore a vibrant array of pet vendors offering everything from gourmet treats to stylish accessories. Capture precious moments with your furry friend courtesy of our talented photographer\, ensuring memories to cherish forever. Treat your furry companion to a delectable tasting experience\, indulging their senses with an assortment of flavors.\n\n\n\nAnd for those considering expanding their family\, don't miss out on our special adoption specials\, where you might just find your perfect match. Get ready to celebrate summer in style with Border Tails Rescue's Summer Pawty!
X-ALT-DESC;FMTTYPE=text/html:Join Border Tails Rescue for a paw-some Summer Pawty extravaganza! Join us for a tail-wagging good time with a myriad of activities to delight both pets and their humans.<br />\n<br />\nExplore a vibrant array of pet vendors offering everything from gourmet treats to stylish accessories. Capture precious moments with your furry friend courtesy of our talented photographer\, ensuring memories to cherish forever. Treat your furry companion to a delectable tasting experience\, indulging their senses with an assortment of flavors.<br />\n<br />\nAnd for those considering expanding their family\, don&#39\;t miss out on our special adoption specials\, where you might just find your perfect match. Get ready to celebrate summer in style with Border Tails Rescue&#39\;s Summer Pawty!
LOCATION:2975 N Milwaukee Ave Northbrook\, IL 60062
UID:e.434.10977
SEQUENCE:3
DTSTAMP:20260420T143726Z
URL:https://business.glenviewchamber.com/events/details/border-tails-rescue-summer-pawty-10977
END:VEVENT

END:VCALENDAR
