BEGIN:VCALENDAR
VERSION:2.0
PRODID:-//ChamberMaster//Event Calendar 2.0//EN
METHOD:PUBLISH
X-PUBLISHED-TTL:P3D
REFRESH-INTERVAL:P3D
CALSCALE:GREGORIAN
BEGIN:VEVENT
DTSTART:20230208T233000Z
DTEND:20230209T010000Z
X-MICROSOFT-CDO-ALLDAYEVENT:FALSE
SUMMARY:Business After Hours
DESCRIPTION:Join us at a new business Stretch Zone Glenview (in the Glen) will be hosting our Feb 8 after hours with food/drinks from Yard House\, free stretch demos (dress casual or you can even wear jeans) and raffle prizes including an autographed Drew Brees football jersey! Food & drinks provided by Yard House.\n\n\n\nA monthly gathering that helps forge new business relationships and renew existing bonds\, Business After Hours rotates among Member businesses and provides a relaxed\, casual atmosphere.  This free event is an excellent opportunity to finish the business day in the company of fellow Members and grow your circle of contacts. Drop by to unwind and connect with your local business community.\n\n **This FREE event is open to Chamber members and prospective Chamber members.**
X-ALT-DESC;FMTTYPE=text/html:<p>Join us at a new business Stretch Zone Glenview (in the Glen) will be hosting our Feb 8 after hours with food/drinks from Yard House\, free stretch demos (dress casual or you can even wear jeans) and raffle prizes including an autographed Drew Brees football jersey! Food &amp\; drinks provided by Yard House.<br />\n<br />\n<span style="font-family:&quot\;Arial&quot\;\,&quot\;sans-serif&quot\;\;color:#666666">A monthly gathering that helps forge new business relationships and renew existing bonds\, Business After Hours rotates among Member businesses and provides a relaxed\, casual atmosphere.&nbsp\; This free event is an excellent opportunity to finish the business day in the company of fellow Members and grow your circle of contacts. Drop by to unwind and connect with your local business<span class="apple-converted-space">&nbsp\;</span>community.</span></p>\n\n<p><span style="font-family:&quot\;Arial&quot\;\,&quot\;sans-serif&quot\;\;color:#666666">&#8203\;**</span><span font-size:="" ms="" sans=""><span style="font-size: 10pt\; font-family: Arial\, sans-serif\;">This</span><span class="apple-converted-space"><span font-size:="" ms="" sans="">&nbsp\;FREE&nbsp\;</span>event is open to Chamber members and prospective Chamber members.**</span><o:p></o:p></span></p>\n
LOCATION:Stretch Zone Glenview 2671 Navy Blvd. (in the Glen) Glenview Overflow parking in parking garage around the corner by Von Maur
UID:e.434.7954
SEQUENCE:3
DTSTAMP:20260421T050417Z
URL:https://business.glenviewchamber.com/events/details/business-after-hours-02-08-2023-7954
END:VEVENT

END:VCALENDAR
