BEGIN:VCALENDAR
VERSION:2.0
PRODID:-//ChamberMaster//Event Calendar 2.0//EN
METHOD:PUBLISH
X-PUBLISHED-TTL:P3D
REFRESH-INTERVAL:P3D
CALSCALE:GREGORIAN
BEGIN:VEVENT
DTSTART:20220209T233000Z
DTEND:20220210T010000Z
X-MICROSOFT-CDO-ALLDAYEVENT:FALSE
SUMMARY:Business After Hours
DESCRIPTION:In an effort to support our local restaurants\, we will be charging $20/per person (on site) that will cover your 2 drinks (beer\, wine or soda\, food) and then it's cash bar. All funds collected go directly to the restaurant and will be collected on site. \n\n\n\nA monthly gathering that helps forge new business relationships and renew existing bonds\, Business After Hours rotates among Member businesses and provides a relaxed\, casual atmosphere.  This event is an excellent opportunity to finish the business day in the company of fellow Members and grow your circle of contacts. Drop by to unwind and connect with your local business community.\n\n **This event is open only to Chamber members and prospective Chamber members.**
X-ALT-DESC;FMTTYPE=text/html:<p><strong style="color: rgb(102\, 102\, 102)\; font-family: Arial\, sans-serif\; font-size: 14px\;">In an effort to support our local restaurants\, we will be charging $20/per person (on site) that will cover your 2&nbsp\;drinks (beer\, wine or soda\, food) and&nbsp\;then it&#39\;s cash bar. All funds collected go directly to the restaurant and will be collected on site.&nbsp\;</strong></p>\n\n<p><br />\n<span style="font-family:&quot\;Arial&quot\;\,&quot\;sans-serif&quot\;\;color:#666666">A monthly gathering that helps forge new business relationships and renew existing bonds\, Business After Hours rotates among Member businesses and provides a relaxed\, casual atmosphere.&nbsp\; This event is an excellent opportunity to finish the business day in the company of fellow Members and grow your circle of contacts. Drop by to unwind and connect with your local business<span class="apple-converted-space">&nbsp\;</span>community.</span></p>\n\n<p><span style="font-family:&quot\;Arial&quot\;\,&quot\;sans-serif&quot\;\;color:#666666">&#8203\;**</span><span font-size:="" ms="" sans=""><span style="font-size: 10pt\; font-family: Arial\, sans-serif\;">This</span><span class="apple-converted-space"><span font-size:="" ms="" sans="">&nbsp\;</span>event is open only to Chamber members and prospective Chamber members.**</span><o:p></o:p></span></p>\n
LOCATION:Ten Ninety Brewing 1025 Waukegan Road Glenview
UID:e.434.7942
SEQUENCE:3
DTSTAMP:20260421T214027Z
URL:https://business.glenviewchamber.com/events/details/business-after-hours-02-09-2022-7942
END:VEVENT

END:VCALENDAR
