BEGIN:VCALENDAR
VERSION:2.0
PRODID:-//ChamberMaster//Event Calendar 2.0//EN
METHOD:PUBLISH
X-PUBLISHED-TTL:P3D
REFRESH-INTERVAL:P3D
CALSCALE:GREGORIAN
BEGIN:VEVENT
DTSTART:20200708T223000Z
DTEND:20200709T000000Z
X-MICROSOFT-CDO-ALLDAYEVENT:FALSE
SUMMARY:Business After Hours
DESCRIPTION:Limited space available. RSVP required online\, no walk-ins. Event held in an outdoor tent\, cash bar\, food not provided but you are welcome to order food to go. View menu here: https://northbranchglenview.com/menus-2/\n\nBring a mask and follow CDC social distancing guidelines.\n\n\n\nA monthly gathering that helps forge new business relationships and renew existing bonds\, Business After Hours rotates among Member businesses and provides a relaxed\, casual atmosphere.  This free event is an excellent opportunity to finish the business day in the company of fellow Members and grow your circle of contacts. Drop by to unwind and connect with your local business community.\n\n **This event is open only to Chamber members and prospective Chamber members.**
X-ALT-DESC;FMTTYPE=text/html:<div style="color: rgb(96\, 109\, 120)\; font-family: Helvetica\, Arial\, sans-serif\; font-size: 14px\; white-space: pre-wrap\;"><span style="font-size: 16px\; color: rgb(38\, 44\, 48)\; font-family: Calibri\, Helvetica\, Arial\, sans-serif\; font-weight: bold\;">Limited space available. RSVP required online\, no walk-ins.</span><span style="font-size: 16px\; color: rgb(38\, 44\, 48)\; font-family: Calibri\, Helvetica\, Arial\, sans-serif\;">&nbsp\;Event held in an outdoor tent\, cash bar\, food not provided but you are welcome to order food to go. View menu here:&nbsp\;</span><a data-link-type="web" href="https://northbranchglenview.com/menus-2/" rel="noopener noreferrer" style="color: rgb(38\, 44\, 48)\; font-size: 16px\; font-family: Calibri\, Helvetica\, Arial\, sans-serif\;" target="_blank">https://northbranchglenview.com/menus-2/</a></div>\n\n<div style="color: rgb(96\, 109\, 120)\; font-family: Helvetica\, Arial\, sans-serif\; font-size: 14px\; white-space: pre-wrap\;"><span style="font-size: 16px\; color: rgb(38\, 44\, 48)\; font-family: Calibri\, Helvetica\, Arial\, sans-serif\;">Bring a mask and follow CDC social distancing guidelines.</span><br />\n<br />\n<span style="font-family:&quot\;Arial&quot\;\,&quot\;sans-serif&quot\;\;color:#666666">A monthly gathering that helps forge new business relationships and renew existing bonds\, Business After Hours rotates among Member businesses and provides a relaxed\, casual atmosphere.&nbsp\; This free event is an excellent opportunity to finish the business day in the company of fellow Members and grow your circle of contacts. Drop by to unwind and connect with your local business<span class="apple-converted-space">&nbsp\;</span>community.</span></div>\n\n<p><span style="font-family:&quot\;Arial&quot\;\,&quot\;sans-serif&quot\;\;color:#666666">&#8203\;**</span><span font-size:="" ms="" sans=""><span style="font-size: 10pt\; font-family: Arial\, sans-serif\;">This</span><span class="apple-converted-space"><span font-size:="" ms="" sans="">&nbsp\;</span>event is open only to Chamber members and prospective Chamber members.**</span><o:p></o:p></span></p>\n
LOCATION:North Branch Pizza & Burger 4520 W. Lake Avenue Glenview
UID:e.434.7923
SEQUENCE:3
DTSTAMP:20260422T234106Z
URL:https://business.glenviewchamber.com/events/details/business-after-hours-07-08-2020-7923
END:VEVENT

END:VCALENDAR
