BEGIN:VCALENDAR
VERSION:2.0
PRODID:-//ChamberMaster//Event Calendar 2.0//EN
METHOD:PUBLISH
X-PUBLISHED-TTL:P3D
REFRESH-INTERVAL:P3D
CALSCALE:GREGORIAN
BEGIN:VEVENT
DTSTART:20210714T223000Z
DTEND:20210715T000000Z
X-MICROSOFT-CDO-ALLDAYEVENT:FALSE
SUMMARY:Business After Hours
DESCRIPTION:In an effort to support our local restaurants\, we will be charging $20/per person (on site) that will cover your 2 drinks (beer\, wine or soda\, food) and then it's cash bar. All funds collected go directly to the restaurant and will be collected on site. \n\n\n\nA monthly gathering that helps forge new business relationships and renew existing bonds\, Business After Hours rotates among Member businesses and provides a relaxed\, casual atmosphere.  This free event is an excellent opportunity to finish the business day in the company of fellow Members and grow your circle of contacts. Drop by to unwind and connect with your local business community.\n\nEnter your business card to win a $50 Grandpa's gift card in our raffle. \n\n **This event is open only to Chamber members and prospective Chamber members.**
X-ALT-DESC;FMTTYPE=text/html:<p><span style="font-family:tahoma\;"><strong style="color: rgb(102\, 102\, 102)\; font-family: Arial\, sans-serif\; font-size: 14px\;">In an effort to support our local restaurants\, we will be charging $20/per person (on site) that will cover your 2&nbsp\;drinks (beer\, wine or soda\, food) and&nbsp\;then it&#39\;s cash bar. All funds collected go directly to the restaurant and will be collected on site.&nbsp\;</strong><br />\n<br />\n<span style="color: rgb(102\, 102\, 102)\;">A monthly gathering that helps forge new business relationships and renew existing bonds\, Business After Hours rotates among Member businesses and provides a relaxed\, casual atmosphere.&nbsp\; This free event is an excellent opportunity to finish the business day in the company of fellow Members and grow your circle of contacts. Drop by to unwind and connect with your local business<span class="apple-converted-space">&nbsp\;</span>community.<br />\n<em><strong>Enter your business card to win a $50 Grandpa&#39\;s gift card in our raffle.&nbsp\;</strong></em></span></span></p>\n\n<p><span style="font-family:tahoma\;"><span style="color: rgb(102\, 102\, 102)\;">&#8203\;**</span><span font-size:="" ms="" sans=""><span style="font-size: 10pt\;">This</span><span class="apple-converted-space"><span font-size:="" ms="" sans="">&nbsp\;</span>event is open only to Chamber members and prospective Chamber members.**</span></span></span><span font-size:="" ms="" sans=""><o:p></o:p></span></p>\n
LOCATION:Grandpa's Place (outside on rooftop) 1868 Prairie
UID:e.434.7935
SEQUENCE:3
DTSTAMP:20260422T082806Z
URL:https://business.glenviewchamber.com/events/details/business-after-hours-07-14-2021-7935
END:VEVENT

END:VCALENDAR
