BEGIN:VCALENDAR
VERSION:2.0
PRODID:-//ChamberMaster//Event Calendar 2.0//EN
METHOD:PUBLISH
X-PUBLISHED-TTL:P3D
REFRESH-INTERVAL:P3D
CALSCALE:GREGORIAN
BEGIN:VEVENT
DTSTART:20211013T223000Z
DTEND:20211014T000000Z
X-MICROSOFT-CDO-ALLDAYEVENT:FALSE
SUMMARY:Business After Hours
DESCRIPTION:Due to an updated policy at Glenview Bank & Trust\, all guests at the Glenview Chamber Business After Hours will be required to provide a vaccine card OR show proof of a negative COVID test within 72 hours of the event. Originals or photocopies are acceptable documents and will be verified at the door. Please check in at the registration desk for your nametag when you arrive. Everyone is invited to enter your business card into the raffle for a chance to win $1 up to $100 cash. Please contact me with questions. \n\n\n\nA monthly gathering that helps forge new business relationships and renew existing bonds\, Business After Hours rotates among Member businesses and provides a relaxed\, casual atmosphere.  This free event is an excellent opportunity to finish the business day in the company of fellow Members and grow your circle of contacts. Drop by to unwind and connect with your local business community.\n\n **This event is open only to Chamber members and prospective Chamber members.**
X-ALT-DESC;FMTTYPE=text/html:<p>Due to an updated policy at Glenview Bank &amp\; Trust\, <strong><span style="color:red\;">all guests at the Glenview Chamber Business After Hours will be required to provide a vaccine card OR show proof of a negative COVID test within 72 hours of the event. </span></strong><span style="color:#0D0D0D\;">Originals or photocopies are acceptable documents and will be verified at the door. </span>Please check in at the registration desk for your nametag when you arrive. Everyone is invited to enter your business card into the raffle for a chance to win $1 up to $100 cash.<span style="color:#0D0D0D\;"> Please contact me with questions. </span><br />\n<br />\n<span style="font-family:&quot\;Arial&quot\;\,&quot\;sans-serif&quot\;\;color:#666666">A monthly gathering that helps forge new business relationships and renew existing bonds\, Business After Hours rotates among Member businesses and provides a relaxed\, casual atmosphere.&nbsp\; This free event is an excellent opportunity to finish the business day in the company of fellow Members and grow your circle of contacts. Drop by to unwind and connect with your local business<span class="apple-converted-space">&nbsp\;</span>community.</span></p>\n\n<p><span style="font-family:&quot\;Arial&quot\;\,&quot\;sans-serif&quot\;\;color:#666666">&#8203\;**</span><span font-size:="" ms="" sans=""><span style="font-size: 10pt\; font-family: Arial\, sans-serif\;">This</span><span class="apple-converted-space"><span font-size:="" ms="" sans="">&nbsp\;</span>event is open only to Chamber members and prospective Chamber members.**</span><o:p></o:p></span></p>\n
LOCATION:Glenview Bank & Trust 99 Waukegan Road
UID:e.434.7938
SEQUENCE:3
DTSTAMP:20260422T091239Z
URL:https://business.glenviewchamber.com/events/details/business-after-hours-10-13-2021-7938
END:VEVENT

END:VCALENDAR
