BEGIN:VCALENDAR
VERSION:2.0
PRODID:-//ChamberMaster//Event Calendar 2.0//EN
METHOD:PUBLISH
X-PUBLISHED-TTL:P3D
REFRESH-INTERVAL:P3D
CALSCALE:GREGORIAN
BEGIN:VEVENT
DTSTART:20240110T233000Z
DTEND:20240111T010000Z
X-MICROSOFT-CDO-ALLDAYEVENT:FALSE
SUMMARY:Business After Hours/Installation of Officers/Business Awards
DESCRIPTION:***The event is currently at capacity. Please email lauren@glenviewchamber.com to be put on the waitlist***\n\n\n\nA monthly gathering that helps forge new business relationships and renew existing bonds\, Business After Hours rotates among Member businesses and provides a relaxed\, casual atmosphere.  We will be installing our new Chamber Board of Directors/Officers and celebrating the Business and Business Person of the Year. Appetizers/Drinks will be served. Sponsored by: Busey Bank\n\n\n\n\n\nThe 2024 Executive Board will continue their term through 2026.  It consists of: President    Craig Solomon of Wesley Child Care Center\, Michael Moylan of Wintrust Community Banks\, as Immediate Past President\, Vice President   Laurie Jensen of Illinois Bone and Joint Institute\,  Treasurer- Robert Rounsfull of Rounsfull Financial Group\n\n \n\nThe new Directors being installed are:\n\nApril Doremus of Blended Health & Smoothie Bar\, Katie Galbas of Glenview Bank & Trust\, Maria Knecht of NorthShore Glenbrook Hospital  and Roger Uy of Glenview Park District\n\n\n\nThey are joining the current board members: \n\nJerry Doetsch of The Doetsch Team\, Berkshire Hathaway HomeServices Chicago\, Cynthia Funai of CKF Acupuncture\, Aaron Share\, of Compass\, Lynne Rine of Weiss Ace Hardware
X-ALT-DESC;FMTTYPE=text/html:<p><span style="color:#000000\;"><span style="font-size:12px\;"><span style="font-family:arial\;">***The event is currently at capacity. Please email lauren@glenviewchamber.com to be put on the waitlist***<br />\n<br />\nA monthly gathering that helps forge new business relationships and renew existing bonds\, Business After Hours rotates among Member businesses and provides a relaxed\, casual atmosphere.&nbsp\; We will be installing our new Chamber Board of Directors/Officers and celebrating the Business and Business Person of the Year. Appetizers/Drinks will be served.&nbsp\;</span></span></span><strong style="color: rgb(0\, 0\, 0)\; font-family: arial\; font-size: 12px\;">Sponsored by: Busey Bank</strong><br />\n<br />\n<br />\n<span style="color:#000000\;"><span style="font-size:12px\;"><span style="font-family:arial\;">The 2024 Executive Board will continue their term through 2026.&nbsp\; It consists of: President &ndash\;&nbsp\; Craig Solomon of Wesley Child Care Center\, Michael Moylan of Wintrust Community Banks\, as Immediate Past President\, Vice President &ndash\; Laurie Jensen of Illinois Bone and Joint Institute\, &nbsp\;Treasurer- Robert Rounsfull of Rounsfull Financial Group<br />\n&nbsp\;<br />\n<span style="font-weight:normal\;">The new Directors being installed are:</span></span></span></span><br />\n<span style="font-size:12px\;"><span style="font-family:arial\;"><span style="color: rgb(0\, 0\, 0)\;">April Doremus of Blended Health &amp\; Smoothie Bar\, Katie Galbas of Glenview Bank &amp\; Trust\, Maria Knecht of NorthShore Glenbrook Hospital&nbsp\; and Roger Uy of Glenview Park District</span></span></span><br />\n<br />\n<span style="color:#000000\;"><span style="font-size:12px\;"><span style="font-family:arial\;"><span style="font-weight:normal\;">They are joining the current board members: </span></span></span></span><br />\n<span style="color:#000000\;"><span style="font-size:12px\;"><span style="font-family:arial\;"><span style="font-weight:normal\;">Jerry Doetsch of The Doetsch Team\, Berkshire Hathaway HomeServices Chicago\, Cynthia Funai of CKF Acupuncture\, Aaron Share\, of Compass\, Lynne Rine of Weiss Ace Hardware</span></span></span></span></p>\n\n<p>&nbsp\;</p>\n\n<p>&nbsp\;</p>\n\n<p align="center" style="text-align: center\;">&nbsp\;</p>\n
LOCATION:Valley Lo Club 2200 Tanglewood Drive Glenview
UID:e.434.7965
SEQUENCE:3
DTSTAMP:20260420T130534Z
URL:https://business.glenviewchamber.com/events/details/business-after-hours-installation-of-officers-business-awards-7965
END:VEVENT

END:VCALENDAR
