BEGIN:VCALENDAR
VERSION:2.0
PRODID:-//ChamberMaster//Event Calendar 2.0//EN
METHOD:PUBLISH
X-PUBLISHED-TTL:P3D
REFRESH-INTERVAL:P3D
CALSCALE:GREGORIAN
BEGIN:VEVENT
DTSTART:20240221T233000Z
DTEND:20240222T010000Z
X-MICROSOFT-CDO-ALLDAYEVENT:FALSE
SUMMARY:Business After Hours (NOTE NEW DATE)
DESCRIPTION:A monthly gathering that helps forge new business relationships and renew existing bonds\, Business After Hours rotates among Member businesses and provides a relaxed\, casual atmosphere.  This free event is an excellent opportunity to finish the business day in the company of fellow Members and grow your circle of contacts. Drop by to unwind and connect with your local business community.\n\nWeiss Ace Hardware is offering a 20% discount on regular priced merchandise\, excludes anything on sale. \n\n \n\n **This event is open only to Chamber members and prospective Chamber members.**
X-ALT-DESC;FMTTYPE=text/html:<p><span style="font-family:&quot\;Arial&quot\;\,&quot\;sans-serif&quot\;\;color:#666666">A monthly gathering that helps forge new business relationships and renew existing bonds\, Business After Hours rotates among Member businesses and provides a relaxed\, casual atmosphere.&nbsp\; This free event is an excellent opportunity to finish the business day in the company of fellow Members and grow your circle of contacts. Drop by to unwind and connect with your local business<span class="apple-converted-space">&nbsp\;</span>community.<br />\n<strong><em>Weiss Ace Hardware is offering a 20% discount on regular priced merchandise\, excludes anything on sale.&nbsp\;</em></strong></span></p>\n\n<p>&nbsp\;</p>\n\n<p align="center" style="text-align: center\;"><span style="font-family:&quot\;Arial&quot\;\,&quot\;sans-serif&quot\;\;color:#666666">&#8203\;**</span><span font-size:="" ms="" sans=""><span style="font-size: 10pt\; font-family: Arial\, sans-serif\;">This</span><span class="apple-converted-space"><span font-size:="" ms="" sans="">&nbsp\;</span>event is open only to Chamber members and prospective Chamber members.**</span><o:p></o:p></span></p>\n
LOCATION:Weiss Ace Hardware 1560 Waukegan Road Glenview IL 60025
UID:e.434.7966
SEQUENCE:3
DTSTAMP:20260420T160755Z
URL:https://business.glenviewchamber.com/events/details/business-after-hours-note-new-date-7966
END:VEVENT

END:VCALENDAR
