BEGIN:VCALENDAR
VERSION:2.0
PRODID:-//ChamberMaster//Event Calendar 2.0//EN
METHOD:PUBLISH
X-PUBLISHED-TTL:P3D
REFRESH-INTERVAL:P3D
CALSCALE:GREGORIAN
BEGIN:VEVENT
DTSTART:20190722T220000Z
DTEND:20190723T003000Z
X-MICROSOFT-CDO-ALLDAYEVENT:FALSE
SUMMARY:Business EXPO - Multi-Chamber
DESCRIPTION:The Chamber is providing members with an exciting opportunity to generate sales\, secure new clients and solidify existing business relationships with a business to business showcase.\n\nTake advantage of this low-cost opportunity to highlight your products and services to more than 400 Northbrook\, Deerfield\, Bannockburn\, Riverwoods and Glenview Chamber members and area business leaders. With a growing attendance\, the annual Expo is a great time to introduce a new product or service\, test market a new product or service\, give a demonstration or distribute product samples. The possibilities and opportunities are endless at this yearly business event. Attendees and exhibitors will be treated to excellent networking\, fabulous food and drink\, raffles and prizes. This event will be more than just your typical After Hours.\n\n\n\nAttendance will be promoted through:\n\n  Chamber website & monthly newsletter\n\n  Posters\n\n  Direct mail to area businesses\n\n  Ads in local newspapers\n\n  Social media advertising\n\n\n\nRegistration includes:\n\nStandard Exhibitor\n\n  6' skirted table & chair\n\n  Promotional postcards to distribute to prospects\n\n  Listing on website\, newsletter and all print material\n\n  Complimentary access to Wifi network\n\n\n\nPremium Exhibitor\n\n  Includes all the above PLUS\n\n  Guaranteed wall space assignment\n\n  Electricity\n\n  Extra space for floor signage\n\n  Company logo in newspaper ads\n\n\n\nExhibitors download the application here.
X-ALT-DESC;FMTTYPE=text/html:The Chamber is providing members with an exciting opportunity to generate sales\, secure new clients and solidify existing business relationships with a business to business showcase.<br />\nTake advantage of this low-cost opportunity to highlight your products and services to more than 400 Northbrook\, Deerfield\, Bannockburn\, Riverwoods and Glenview Chamber members and area business leaders. With a growing attendance\, the annual Expo is a great time to introduce a new product or service\, test market a new product or service\, give a demonstration or distribute product samples. The possibilities and opportunities are endless at this yearly business event. Attendees and exhibitors will be treated to excellent networking\, fabulous food and drink\, raffles and prizes. This event will be more than just your typical After Hours.<br />\n<br />\nAttendance will be promoted through:<br />\n&bull\; Chamber website &amp\; monthly newsletter<br />\n&bull\; Posters<br />\n&bull\; Direct mail to area businesses<br />\n&bull\; Ads in local newspapers<br />\n&bull\; Social media advertising<br />\n<br />\nRegistration includes:<br />\nStandard Exhibitor<br />\n&bull\; 6&rsquo\; skirted table &amp\; chair<br />\n&bull\; Promotional postcards to distribute to prospects<br />\n&bull\; Listing on website\, newsletter and all print material<br />\n&bull\; Complimentary access to Wifi network<br />\n<br />\nPremium Exhibitor<br />\n&bull\; Includes all the above PLUS<br />\n&bull\; Guaranteed wall space assignment<br />\n&bull\; Electricity<br />\n&bull\; Extra space for floor signage<br />\n&bull\; Company logo in newspaper ads<br />\n<br />\n<a href="https://chambermaster.blob.core.windows.net/userfiles/UserFiles/chambers/434/File/NorthbrookChamberExpo-2019-REGISTRATIONFORM-Glenview.pdf">Exhibitors download the application here.&nbsp\;</a>
LOCATION:Hilton Chicago Northbrook 2855 Milwaukee Avenue Northbrook\, IL
UID:e.434.10143
SEQUENCE:3
DTSTAMP:20260425T213134Z
URL:https://business.glenviewchamber.com/events/details/business-expo-multi-chamber-10143
END:VEVENT

END:VCALENDAR
