BEGIN:VCALENDAR
VERSION:2.0
PRODID:-//ChamberMaster//Event Calendar 2.0//EN
METHOD:PUBLISH
X-PUBLISHED-TTL:P3D
REFRESH-INTERVAL:P3D
CALSCALE:GREGORIAN
BEGIN:VEVENT
DTSTART:20200727T220000Z
DTEND:20200728T003000Z
X-MICROSOFT-CDO-ALLDAYEVENT:FALSE
SUMMARY:CANCELED - Business Expo
DESCRIPTION:Business Expo & After Hours
X-ALT-DESC;FMTTYPE=text/html:<strong>Business Expo &amp\; After Hours</strong>
LOCATION:Hilton Chicago Northbrook 2855 N. Milwaukee Ave. Northbrook IL 60062
UID:e.434.10330
SEQUENCE:3
DTSTAMP:20260422T234100Z
URL:https://business.glenviewchamber.com/events/details/canceled-business-expo-10330
END:VEVENT

END:VCALENDAR
