BEGIN:VCALENDAR
VERSION:2.0
PRODID:-//ChamberMaster//Event Calendar 2.0//EN
METHOD:PUBLISH
X-PUBLISHED-TTL:P3D
REFRESH-INTERVAL:P3D
CALSCALE:GREGORIAN
BEGIN:VEVENT
DTSTART:20201212T160000Z
DTEND:20201212T190000Z
X-MICROSOFT-CDO-ALLDAYEVENT:FALSE
SUMMARY:CANCELLED -# ILoveLocal LIVE Shopping Event
DESCRIPTION:# ILoveLocal LIVE event\n\nGet your Tree and much more! There will be great local vendors selling wonderful holiday items at the Historic Wagner Farm tree sales. The Chamber is partnering with Glenview Park District so that you can get your tree and support local retailers at Historic Wagner Farm on December 5 and December 12. Tree dates and times can be found on the Park District site.\nVENDORS INCLUDE:\n\nBeautyCounter\n\nCake-Craze\n\nCoronet Collection\n\nGlenview Grind\n\nEssential Oils\n\nGlenview Jewelers\n\nShanti Essence\n\nTres Mimi\nVENDORS SIGN UP HERE:  https://chambermaster.blob.core.windows.net/userfiles/UserFiles/chambers/434/File/VendorFormWagnerFarm4.docx
X-ALT-DESC;FMTTYPE=text/html:<strong><span style="color: rgb(13\, 13\, 13)\;"># ILoveLocal LIVE event</span></strong><br />\nGet your Tree and much more! There will be great local vendors selling wonderful holiday items at the Historic Wagner Farm tree sales. The Chamber is partnering with Glenview Park District so that you can get your tree and support local retailers at Historic Wagner Farm on December 5 and December 12. Tree dates and times can be found on the Park District site.\n<p><strong>VENDORS INCLUDE:</strong></p>\n\n<p>BeautyCounter<br />\nCake-Craze<br />\nCoronet Collection<br />\nGlenview Grind<br />\nEssential Oils<br />\nGlenview Jewelers<br />\nShanti Essence<br />\nTres Mimi</p>\n<strong><span style="color:#FF0000\;">VENDORS SIGN UP HERE:&nbsp\;&nbsp\;</span><a href="https://chambermaster.blob.core.windows.net/userfiles/UserFiles/chambers/434/File/VendorFormWagnerFarm4.docx"><span style="color:#FF0000\;">https://chambermaster.blob.core.windows.net/userfiles/UserFiles/chambers/434/File/VendorFormWagnerFarm4.docx</span></a></strong>
LOCATION:Historic Wagner Farm 1510 Wagner Road Glenview
UID:e.434.10476
SEQUENCE:3
DTSTAMP:20260422T173011Z
URL:https://business.glenviewchamber.com/events/details/cancelled-ilovelocal-live-shopping-event-12-12-2020-10476
END:VEVENT

END:VCALENDAR
