BEGIN:VCALENDAR
VERSION:2.0
PRODID:-//ChamberMaster//Event Calendar 2.0//EN
METHOD:PUBLISH
X-PUBLISHED-TTL:P3D
REFRESH-INTERVAL:P3D
CALSCALE:GREGORIAN
BEGIN:VEVENT
DTSTART:20220616T233000Z
DTEND:20220617T010000Z
X-MICROSOFT-CDO-ALLDAYEVENT:FALSE
SUMMARY:CANCELLED -- YPG Sweat & Social at 10.40.10 Fitness
DESCRIPTION:THIS EVENT HAS BEEN CANCELLED\n\nCalling all YPG Members!!!  Our June Social is on the books!  Head over to the link in out bio and sign up for a Young Professionals private sweat session at @10.40.10Glenview! \n\n \n\nWe have 18 available spots\, so sign up fast.  Take advantage of this opportunity to try out this amazing new studio\, mingle with your peers\, and celebrate your physical victory with drink when class is finished!\n\n \n\nSocial Information:\n\nJune 16 @ 6:30pm (please arrive early to fill out waivers)\n\n10.40.10 Fitness is located at 954 Harlem Ave\n\nDrink provided following the event.\n\n \n\nDress to Sweat!
X-ALT-DESC;FMTTYPE=text/html:<span style="color:#FF0000\;"><strong>THIS EVENT HAS BEEN CANCELLED</strong></span><br />\nCalling all YPG Members!!!&nbsp\; Our June Social is on the books!&nbsp\; Head over to the link in out bio and sign up for a Young Professionals private sweat session at @10.40.10Glenview!&nbsp\;<br />\n&nbsp\;<br />\nWe have 18 available spots\, so sign up fast.&nbsp\; Take advantage of this opportunity to try out this amazing new studio\, mingle with your peers\, and celebrate your physical victory with drink when class is finished!<br />\n&nbsp\;<br />\nSocial Information:<br />\nJune 16 @ 6:30pm (please arrive early to fill out waivers)<br />\n10.40.10 Fitness is located at 954 Harlem Ave<br />\nDrink provided following the event.<br />\n&nbsp\;<br />\nDress to Sweat!
LOCATION:10.40.10 Fitness is located at 954 Harlem Ave
UID:e.434.10618
SEQUENCE:3
DTSTAMP:20260421T164625Z
URL:https://business.glenviewchamber.com/events/details/cancelled-ypg-sweat-social-at-10-40-10-fitness-10618
END:VEVENT

END:VCALENDAR
