BEGIN:VCALENDAR
VERSION:2.0
PRODID:-//ChamberMaster//Event Calendar 2.0//EN
METHOD:PUBLISH
X-PUBLISHED-TTL:P3D
REFRESH-INTERVAL:P3D
CALSCALE:GREGORIAN
BEGIN:VEVENT
DTSTART:20240912T230000Z
DTEND:20240913T013000Z
X-MICROSOFT-CDO-ALLDAYEVENT:FALSE
SUMMARY:Canva For Beginners Workshop
DESCRIPTION:Business owners\, teachers\, realtors\, and professionals new to Canva. Learn to create stunning designs for your bran quickly and easily. No experience needed- just bring your laptop\, a Canva account\, and a willingness to learn!\n\n\n\nHosted by Amy Alexander\, Content Expert and owner of A2 Sales & Marketing\n\n\n\nBonus Expert: Certified life coach Mara Heichman guides you through calming exercises. Stay focused and overcome mental blocks\, even with your busy schedule. Learn Canva while nurturing your well-being. \n\n\n\nPre-registration is required.
X-ALT-DESC;FMTTYPE=text/html:Business owners\, teachers\, realtors\, and professionals new to Canva. Learn to create stunning designs for your bran quickly and easily. No experience needed- just bring your laptop\, a Canva account\, and a willingness to learn!<br />\n<br />\nHosted by Amy Alexander\, Content Expert and owner of A2 Sales &amp\; Marketing<br />\n<br />\nBonus Expert: Certified life coach Mara Heichman guides you through calming exercises. Stay focused and overcome mental blocks\, even with your busy schedule. Learn Canva while nurturing your well-being.&nbsp\;<br />\n<br />\nPre-registration is required.&nbsp\;
LOCATION:Valley Lo Club 2200 Tanglewood Drive Glenview\, IL
UID:e.434.11040
SEQUENCE:3
DTSTAMP:20260420T101920Z
URL:https://business.glenviewchamber.com/events/details/canva-for-beginners-workshop-11040
END:VEVENT

END:VCALENDAR
