BEGIN:VCALENDAR
VERSION:2.0
PRODID:-//ChamberMaster//Event Calendar 2.0//EN
METHOD:PUBLISH
X-PUBLISHED-TTL:P3D
REFRESH-INTERVAL:P3D
CALSCALE:GREGORIAN
BEGIN:VEVENT
DTSTART:20240628T150000Z
DTEND:20240629T210000Z
X-MICROSOFT-CDO-ALLDAYEVENT:FALSE
SUMMARY:Carillon Square Summer Fun & Sidewalk Sale
DESCRIPTION:We are excited to announce the upcoming Carillon Square Summer Sun & Fun Sidewalk Sale\, taking place at the end of the month. Mark your calendars for Friday\, June 28th and Saturday\, June 29th\, with Saturday being the main event day! Each day is from 10am-4pm\n\n \nThere will be various fun activities\, including a jump house\, a DJ\, a balloon twister\, and more. To add to the excitement\, we'll also host a scavenger hunt for kids\, where they can go to each store and find the beach ball to win a final prize (starts and ends at YogaSix!).\n\n\n\nCheck out the attached flyer for information on what each business is offering. You don't want to miss these deals!
X-ALT-DESC;FMTTYPE=text/html:<span style="color:rgb(34\, 34\, 34)\; font-family:arial\,helvetica\,sans-serif\; font-size:small">We are excited to announce the upcoming Carillon Square Summer Sun &amp\; Fun Sidewalk Sale\, taking place at the end of the month. Mark your calendars for&nbsp\;</span><strong>Friday\, June 28th and Saturday\, June 29th\, with&nbsp\;<u>Saturday</u>&nbsp\;being the main event day! Each day is from 10am-4pm</strong><br />\n&nbsp\;\n<div>There will be various fun activities\, including a jump house\, a DJ\, a balloon twister\, and more. To add to the excitement\, we&rsquo\;ll also host a scavenger hunt for kids\, where they can go to each store and find the beach ball to win a final prize (starts and ends at YogaSix!).<br />\n<br />\nCheck out the attached flyer for information on what each business is offering. You don&#39\;t want to miss these deals!</div>\n\n<div>&nbsp\;</div>\n
LOCATION:Carillon Square\, Glenview
UID:e.434.10982
SEQUENCE:3
DTSTAMP:20260422T111016Z
URL:https://business.glenviewchamber.com/events/details/carillon-square-summer-fun-sidewalk-sale-10982
END:VEVENT

END:VCALENDAR
