BEGIN:VCALENDAR
VERSION:2.0
PRODID:-//ChamberMaster//Event Calendar 2.0//EN
METHOD:PUBLISH
X-PUBLISHED-TTL:P3D
REFRESH-INTERVAL:P3D
CALSCALE:GREGORIAN
BEGIN:VEVENT
DTSTART:20190430T160000Z
DTEND:20190430T183000Z
X-MICROSOFT-CDO-ALLDAYEVENT:FALSE
SUMMARY:CHEST Health Fair
DESCRIPTION:American College of Chest Physicians is opening up their health fair to all Chamber Members. Enjoy free health screenings\, testing\, health services\, drawings & more. Over 15 different free services will be offered at the event.
X-ALT-DESC;FMTTYPE=text/html:<span style="color:#2F353B\;"><span style="font-family:helvetica\,sans-serif\;"><span style="font-size:9.0pt\;">American College of Chest Physicians is opening up their health fair to all Chamber Members. Enjoy free health screenings\, testing\, health services\, drawings &amp\; more.&nbsp\;Over 15 different free services will be offered at the event.</span></span></span>
LOCATION:American College of Chest Physicians (CHEST) 2595 Patriot Blvd\, Glenview
UID:e.434.10144
SEQUENCE:3
DTSTAMP:20260426T013817Z
URL:https://business.glenviewchamber.com/events/details/chest-health-fair-10144
END:VEVENT

END:VCALENDAR
