BEGIN:VCALENDAR
VERSION:2.0
PRODID:-//ChamberMaster//Event Calendar 2.0//EN
METHOD:PUBLISH
X-PUBLISHED-TTL:P3D
REFRESH-INTERVAL:P3D
CALSCALE:GREGORIAN
BEGIN:VEVENT
DTSTART:20240427T163000Z
DTEND:20240427T190000Z
X-MICROSOFT-CDO-ALLDAYEVENT:FALSE
SUMMARY:Chestnut Square Open House
DESCRIPTION:Register via website: https://www.chestnutsquare.info/\n\n\n\nStop by for light refreshments\, exciting raffles\, and tours of our newly-decorated senior living community. We'll also be sharing information about limited-time incentives on all floor plans. Chestnut Square features spacious 1 and 2-BR apartments\, a maintenance-free and holistic lifestyle\, homecare services on-site if needed\, an unmatched location in The Glen\, Signature Dining Program\, indoor parking garage\, and 100% refundable entrance fee.
X-ALT-DESC;FMTTYPE=text/html:Register via website:&nbsp\;https://www.chestnutsquare.info/<br />\n<br />\nStop by for light refreshments\, exciting raffles\, and tours of our newly-decorated senior living community. We&rsquo\;ll also be sharing information about limited-time incentives on all floor plans. Chestnut Square features spacious 1 and 2-BR apartments\, a maintenance-free and holistic lifestyle\, homecare services on-site if needed\, an unmatched location in The Glen\, Signature Dining Program\, indoor parking garage\, and 100% refundable entrance fee.
LOCATION:2601 Chestnut Ave Glenview\, IL
UID:e.434.10964
SEQUENCE:3
DTSTAMP:20260420T115129Z
URL:https://business.glenviewchamber.com/events/details/chestnut-square-open-house-10964
END:VEVENT

END:VCALENDAR
