BEGIN:VCALENDAR
VERSION:2.0
PRODID:-//ChamberMaster//Event Calendar 2.0//EN
METHOD:PUBLISH
X-PUBLISHED-TTL:P3D
REFRESH-INTERVAL:P3D
CALSCALE:GREGORIAN
BEGIN:VEVENT
DTSTART:20190402T170000Z
DTEND:20190402T180000Z
X-MICROSOFT-CDO-ALLDAYEVENT:FALSE
SUMMARY:Children's Business Group Networking Meeting
DESCRIPTION:Imagine discovering a business\, nonprofit\, or venue that dovetails with a great new idea you've had simmering for a while. Imagine locating a service that will help your young clients thrive. Imagine meeting professionals who care about what you care about\, but from a slightly different angle. That's what we want the Network to bring to our members.  Plus you'll be getting the newest info from experts on critical topics like: screen time\, the impact of college admission pressures\, the warning signs of sleep deficits\, how to hire and work with Generation Z\, and other hot topics. \n\n \n\nWe foresee all sorts of connections and collaborations. And we want you to be part of it. Beverages will be provided but bring a brown bag lunch.
X-ALT-DESC;FMTTYPE=text/html:<span style="color: rgb(76\, 76\, 83)\; font-family: AsapRegular\, Arial\, sans-serif\; font-size: 14px\;">Imagine discovering a business\, nonprofit\, or venue that dovetails with a great new idea you&rsquo\;ve had simmering for a while. Imagine locating a service that will help your young clients thrive. Imagine meeting professionals who care about what you care about\, but from a slightly different angle. That&rsquo\;s what we want the Network to bring to our members.&nbsp\; Plus you&rsquo\;ll be getting the newest info from experts on critical topics like: screen time\, the impact of college admission pressures\, the warning signs of sleep deficits\, how to hire and work with Generation Z\, and other hot topics.&nbsp\;</span><br style="font-variant-numeric: normal\; font-variant-east-asian: normal\; font-stretch: normal\; font-size: 14px\; line-height: 22px\; font-family: AsapRegular\, Arial\, sans-serif\; color: rgb(76\, 76\, 83)\; display: inline\;" />\n<span style="color: rgb(76\, 76\, 83)\; font-family: AsapRegular\, Arial\, sans-serif\; font-size: 14px\;">&nbsp\;</span><br style="font-variant-numeric: normal\; font-variant-east-asian: normal\; font-stretch: normal\; font-size: 14px\; line-height: 22px\; font-family: AsapRegular\, Arial\, sans-serif\; color: rgb(76\, 76\, 83)\; display: inline\;" />\n<span style="margin: 0px\; padding: 0px\; border: 0px\; font-variant-numeric: normal\; font-variant-east-asian: normal\; font-stretch: normal\; font-size: 14px\; line-height: 22px\; font-family: calibri\, sans-serif\; vertical-align: baseline\; color: rgb(76\, 76\, 83)\;"><span style="margin: 0px\; padding: 0px\; border: 0px\; font-variant-numeric: normal\; font-variant-east-asian: normal\; font-stretch: normal\; font-size: 11pt\; line-height: 22px\; font-family: AsapRegular\, Arial\, sans-serif\; vertical-align: baseline\;">We foresee all sorts of connections and collaborations. And we want you to be part of it.&nbsp\;Beverages will be provided but br</span></span><span style="color: rgb(76\, 76\, 83)\; font-family: AsapRegular\, Arial\, sans-serif\; font-size: 14px\;">ing a brown bag lunch.</span>
LOCATION:Kohl Children's Museum 2100 Patriot Blvd. in Conference Room A
UID:e.434.10109
SEQUENCE:3
DTSTAMP:20260426T013822Z
URL:https://business.glenviewchamber.com/events/details/children-s-business-group-networking-meeting-10109
END:VEVENT

END:VCALENDAR
