BEGIN:VCALENDAR
VERSION:2.0
PRODID:-//ChamberMaster//Event Calendar 2.0//EN
METHOD:PUBLISH
X-PUBLISHED-TTL:P3D
REFRESH-INTERVAL:P3D
CALSCALE:GREGORIAN
BEGIN:VEVENT
DTSTART:20190806T170000Z
DTEND:20190806T180000Z
X-MICROSOFT-CDO-ALLDAYEVENT:FALSE
SUMMARY:Children's Business Group Networking Meeting
DESCRIPTION:Imagine discovering a business\, nonprofit\, or venue that dovetails with a great new idea you've had simmering for a while. Imagine locating a service that will help your young clients thrive. Imagine meeting professionals who care about what you care about\, but from a slightly different angle. That's what we want the Network to bring to our members.  Plus you'll be getting the newest info from experts on critical topics like: screen time\, the impact of college admission pressures\, the warning signs of sleep deficits\, how to hire and work with Generation Z\, and other hot topics. \n\n\n\nWe foresee all sorts of connections and collaborations. And we want you to be part of it. Beverages will be provided by Kohl and Yard House will be providing the lunch.
X-ALT-DESC;FMTTYPE=text/html:Imagine discovering a business\, nonprofit\, or venue that dovetails with a great new idea you&rsquo\;ve had simmering for a while. Imagine locating a service that will help your young clients thrive. Imagine meeting professionals who care about what you care about\, but from a slightly different angle. That&rsquo\;s what we want the Network to bring to our members.&nbsp\; Plus you&rsquo\;ll be getting the newest info from experts on critical topics like: screen time\, the impact of college admission pressures\, the warning signs of sleep deficits\, how to hire and work with Generation Z\, and other hot topics.&nbsp\;<br />\n<br />\nWe foresee all sorts of connections and collaborations. And we want you to be part of it. Beverages will be provided by Kohl and Yard House will be providing the lunch.&nbsp\;
LOCATION:Kohl Children's Museum 2100 Patriot Blvd. in Conference Room A
UID:e.434.10173
SEQUENCE:3
DTSTAMP:20260425T133957Z
URL:https://business.glenviewchamber.com/events/details/children-s-business-group-networking-meeting-10173
END:VEVENT

END:VCALENDAR
